BEGIN:VCALENDAR
VERSION:2.0
PRODID:-//Village of Lancaster, NY - ECPv6.15.17.1//NONSGML v1.0//EN
CALSCALE:GREGORIAN
METHOD:PUBLISH
X-WR-CALNAME:Village of Lancaster, NY
X-ORIGINAL-URL:https://lancastervillageny.gov
X-WR-CALDESC:Events for Village of Lancaster, NY
REFRESH-INTERVAL;VALUE=DURATION:PT1H
X-Robots-Tag:noindex
X-PUBLISHED-TTL:PT1H
BEGIN:VTIMEZONE
TZID:America/New_York
BEGIN:DAYLIGHT
TZOFFSETFROM:-0500
TZOFFSETTO:-0400
TZNAME:EDT
DTSTART:20250309T070000
END:DAYLIGHT
BEGIN:STANDARD
TZOFFSETFROM:-0400
TZOFFSETTO:-0500
TZNAME:EST
DTSTART:20251102T060000
END:STANDARD
BEGIN:DAYLIGHT
TZOFFSETFROM:-0500
TZOFFSETTO:-0400
TZNAME:EDT
DTSTART:20260308T070000
END:DAYLIGHT
BEGIN:STANDARD
TZOFFSETFROM:-0400
TZOFFSETTO:-0500
TZNAME:EST
DTSTART:20261101T060000
END:STANDARD
BEGIN:DAYLIGHT
TZOFFSETFROM:-0500
TZOFFSETTO:-0400
TZNAME:EDT
DTSTART:20270314T070000
END:DAYLIGHT
BEGIN:STANDARD
TZOFFSETFROM:-0400
TZOFFSETTO:-0500
TZNAME:EST
DTSTART:20271107T060000
END:STANDARD
END:VTIMEZONE
BEGIN:VEVENT
DTSTART;TZID=America/New_York:20260423T170000
DTEND;TZID=America/New_York:20260423T190000
DTSTAMP:20260423T013552
CREATED:20260304T154846Z
LAST-MODIFIED:20260304T154846Z
UID:10001487-1776963600-1776970800@lancastervillageny.gov
SUMMARY:Beautification Planting and Spruce Up
DESCRIPTION:Beautification Planting and Spruce Up dates: \nThursday April 23… 5pm-7pm\nFriday April 24… 10am-2pm\nSaturday April 25… 10am-2pm\nThursday May 14… 6pm-8pm\nFriday May 15… 10am-2pm & 6pm-8pm\nSaturday May 16… 10am-2pm\nThursday June 18… 6pm-8pm\nFriday June 19… 10am-2pm\nSaturday June 20… 10am-2pm\nFriday July 24… 10am-2pm\nSaturday July 25… 10am-2pm\nThursday August 20… 6pm-8pm\nFriday August 21… 10am-2pm\nThursday September 10… 6pm-8pm\nFriday September 11… 10am-2pm\nThursday October 29… 5pm-7pm\nFriday October 30… 10am-2pm\nSaturday October 31… 10am-2pm
URL:https://lancastervillageny.gov/event/beautification-planting-and-spruce-up/
LOCATION:Central Business District
END:VEVENT
END:VCALENDAR