BEGIN:VCALENDAR
VERSION:2.0
PRODID:-//Village of Lancaster, NY - ECPv6.15.17.1//NONSGML v1.0//EN
CALSCALE:GREGORIAN
METHOD:PUBLISH
X-WR-CALNAME:Village of Lancaster, NY
X-ORIGINAL-URL:https://lancastervillageny.gov
X-WR-CALDESC:Events for Village of Lancaster, NY
REFRESH-INTERVAL;VALUE=DURATION:PT1H
X-Robots-Tag:noindex
X-PUBLISHED-TTL:PT1H
BEGIN:VTIMEZONE
TZID:America/New_York
BEGIN:DAYLIGHT
TZOFFSETFROM:-0500
TZOFFSETTO:-0400
TZNAME:EDT
DTSTART:20230312T070000
END:DAYLIGHT
BEGIN:STANDARD
TZOFFSETFROM:-0400
TZOFFSETTO:-0500
TZNAME:EST
DTSTART:20231105T060000
END:STANDARD
BEGIN:DAYLIGHT
TZOFFSETFROM:-0500
TZOFFSETTO:-0400
TZNAME:EDT
DTSTART:20240310T070000
END:DAYLIGHT
BEGIN:STANDARD
TZOFFSETFROM:-0400
TZOFFSETTO:-0500
TZNAME:EST
DTSTART:20241103T060000
END:STANDARD
BEGIN:DAYLIGHT
TZOFFSETFROM:-0500
TZOFFSETTO:-0400
TZNAME:EDT
DTSTART:20250309T070000
END:DAYLIGHT
BEGIN:STANDARD
TZOFFSETFROM:-0400
TZOFFSETTO:-0500
TZNAME:EST
DTSTART:20251102T060000
END:STANDARD
END:VTIMEZONE
BEGIN:VEVENT
DTSTART;TZID=America/New_York:20240207T190000
DTEND;TZID=America/New_York:20240207T210000
DTSTAMP:20260422T034011
CREATED:20240102T212430Z
LAST-MODIFIED:20240116T195814Z
UID:10001327-1707332400-1707339600@lancastervillageny.gov
SUMMARY:Trivia Night- February's 175th Anniversary Event
DESCRIPTION:Gather your friends and meet us at St. Mary’s High School on Wednesday\, February 7\, 2024\, at 7:00p.m. for Trivia Night! \n \nFor more information\, please click here: \nTrivia Night- 175th Anniversary Event – Village of Lancaster\, NY (lancastervillageny.gov)
URL:https://lancastervillageny.gov/event/175th-anniversary-february-event-trivia-night/
LOCATION:St. Mary’s Highschool\, 142 Laverack Ave\, Lancaster\, NY\, 14086\, United States
CATEGORIES:175th Anniversary
END:VEVENT
BEGIN:VEVENT
DTSTART;TZID=America/New_York:20240229T190000
DTEND;TZID=America/New_York:20240229T200000
DTSTAMP:20260422T034012
CREATED:20240209T164325Z
LAST-MODIFIED:20240209T164325Z
UID:10001331-1709233200-1709236800@lancastervillageny.gov
SUMMARY:175th Anniversary Guest Speaker Series: Kevin Kelleher
DESCRIPTION:St. Mary’s Head of School Kevin Kelleher will lead a panel discussion on the history of St. Mary’s and its place in the history of the Village of Lancaster. \nThis event is free and open to the public.
URL:https://lancastervillageny.gov/event/175th-anniversary-guest-speaker-series-kevin-kelleher/
LOCATION:St. Mary’s Highschool\, 142 Laverack Ave\, Lancaster\, NY\, 14086\, United States
CATEGORIES:175th Anniversary
END:VEVENT
END:VCALENDAR