BEGIN:VCALENDAR
VERSION:2.0
PRODID:-//Village of Lancaster, NY - ECPv6.15.17.1//NONSGML v1.0//EN
CALSCALE:GREGORIAN
METHOD:PUBLISH
X-WR-CALNAME:Village of Lancaster, NY
X-ORIGINAL-URL:https://lancastervillageny.gov
X-WR-CALDESC:Events for Village of Lancaster, NY
REFRESH-INTERVAL;VALUE=DURATION:PT1H
X-Robots-Tag:noindex
X-PUBLISHED-TTL:PT1H
BEGIN:VTIMEZONE
TZID:America/New_York
BEGIN:DAYLIGHT
TZOFFSETFROM:-0500
TZOFFSETTO:-0400
TZNAME:EDT
DTSTART:20230312T070000
END:DAYLIGHT
BEGIN:STANDARD
TZOFFSETFROM:-0400
TZOFFSETTO:-0500
TZNAME:EST
DTSTART:20231105T060000
END:STANDARD
BEGIN:DAYLIGHT
TZOFFSETFROM:-0500
TZOFFSETTO:-0400
TZNAME:EDT
DTSTART:20240310T070000
END:DAYLIGHT
BEGIN:STANDARD
TZOFFSETFROM:-0400
TZOFFSETTO:-0500
TZNAME:EST
DTSTART:20241103T060000
END:STANDARD
BEGIN:DAYLIGHT
TZOFFSETFROM:-0500
TZOFFSETTO:-0400
TZNAME:EDT
DTSTART:20250309T070000
END:DAYLIGHT
BEGIN:STANDARD
TZOFFSETFROM:-0400
TZOFFSETTO:-0500
TZNAME:EST
DTSTART:20251102T060000
END:STANDARD
END:VTIMEZONE
BEGIN:VEVENT
DTSTART;TZID=America/New_York:20240701T080000
DTEND;TZID=America/New_York:20240706T170000
DTSTAMP:20260421T202044
CREATED:20240408T211809Z
LAST-MODIFIED:20240408T211809Z
UID:10001386-1719820800-1720285200@lancastervillageny.gov
SUMMARY:Village of Lancaster Old Home Week- July's 175th Anniversary Event
DESCRIPTION:July 1 – July 6\, 2024\, in the Village of Lancaster. Family friendly events are planned all week to celebrate the Village of Lancaster’s 175th Anniversary. Stay tuned!
URL:https://lancastervillageny.gov/event/village-of-lancaster-old-home-week-julys-175th-anniversary-event/
LOCATION:Central Business District
CATEGORIES:175th Anniversary,Adult Events,Family Events
END:VEVENT
BEGIN:VEVENT
DTSTART;TZID=America/New_York:20240717T183000
DTEND;TZID=America/New_York:20240717T193000
DTSTAMP:20260421T202044
CREATED:20240709T154628Z
LAST-MODIFIED:20240709T154628Z
UID:10001402-1721241000-1721244600@lancastervillageny.gov
SUMMARY:175th Anniversary Guest Speaker Series: Kara Stock
DESCRIPTION:Learn about the history of the Lancaster Library and its place in the Village of Lancaster. The presentation also includes information about some of their current services.
URL:https://lancastervillageny.gov/event/175th-anniversary-guest-speaker-series-kara-stock-2/
LOCATION:Lancaster Public Library\, 5466 Broadway\, Lancaster\, NY\, 14086\, United States
CATEGORIES:175th Anniversary,Family Events
END:VEVENT
END:VCALENDAR