BEGIN:VCALENDAR
VERSION:2.0
PRODID:-//Village of Lancaster, NY - ECPv6.15.17.1//NONSGML v1.0//EN
CALSCALE:GREGORIAN
METHOD:PUBLISH
X-ORIGINAL-URL:https://lancastervillageny.gov
X-WR-CALDESC:Events for Village of Lancaster, NY
REFRESH-INTERVAL;VALUE=DURATION:PT1H
X-Robots-Tag:noindex
X-PUBLISHED-TTL:PT1H
BEGIN:VTIMEZONE
TZID:America/New_York
BEGIN:DAYLIGHT
TZOFFSETFROM:-0500
TZOFFSETTO:-0400
TZNAME:EDT
DTSTART:20220313T070000
END:DAYLIGHT
BEGIN:STANDARD
TZOFFSETFROM:-0400
TZOFFSETTO:-0500
TZNAME:EST
DTSTART:20221106T060000
END:STANDARD
BEGIN:DAYLIGHT
TZOFFSETFROM:-0500
TZOFFSETTO:-0400
TZNAME:EDT
DTSTART:20230312T070000
END:DAYLIGHT
BEGIN:STANDARD
TZOFFSETFROM:-0400
TZOFFSETTO:-0500
TZNAME:EST
DTSTART:20231105T060000
END:STANDARD
BEGIN:DAYLIGHT
TZOFFSETFROM:-0500
TZOFFSETTO:-0400
TZNAME:EDT
DTSTART:20240310T070000
END:DAYLIGHT
BEGIN:STANDARD
TZOFFSETFROM:-0400
TZOFFSETTO:-0500
TZNAME:EST
DTSTART:20241103T060000
END:STANDARD
END:VTIMEZONE
BEGIN:VEVENT
DTSTART;TZID=America/New_York:20230702T080000
DTEND;TZID=America/New_York:20230702T170000
DTSTAMP:20260422T174859
CREATED:20230609T195959Z
LAST-MODIFIED:20230615T164304Z
UID:10001181-1688284800-1688317200@lancastervillageny.gov
SUMMARY:4th of July Event
DESCRIPTION:Come and see Terry Buckwald as Elvis and enjoy the beer tent! Time is TBD. \n  \nKid Activities: \nFace Painting from 4:00pm-7:00pm \nUltimate Video Game Theater and Bounce House from 5:00pm- 8:00pm
URL:https://lancastervillageny.gov/event/4th-of-july-event-2/
LOCATION:Central Business District
CATEGORIES:Adult Events,Family Events,Sanctioned Events
END:VEVENT
BEGIN:VEVENT
DTSTART;TZID=America/New_York:20230703T080000
DTEND;TZID=America/New_York:20230703T170000
DTSTAMP:20260422T174859
CREATED:20230609T200344Z
LAST-MODIFIED:20230615T164447Z
UID:10001182-1688371200-1688403600@lancastervillageny.gov
SUMMARY:4th of July Event
DESCRIPTION:Come and see Nerds Gone Wild and enjoy the beer tent! Time is TBD. \nKid Activities: \nBalloon Twisting from 4:00pm-7:00pm \nUltimate Video Game Theater and Bounce House from 5:00pm-8:00pm
URL:https://lancastervillageny.gov/event/4th-of-july-event-3/
LOCATION:Central Business District
CATEGORIES:Adult Events,Family Events,Sanctioned Events
END:VEVENT
BEGIN:VEVENT
DTSTART;TZID=America/New_York:20230704T073000
DTEND;TZID=America/New_York:20230704T230000
DTSTAMP:20260422T174859
CREATED:20230609T195727Z
LAST-MODIFIED:20230620T133010Z
UID:10001180-1688455800-1688511600@lancastervillageny.gov
SUMMARY:4th of July Event
DESCRIPTION:7:30AM – Flag Rasing at Firefighter’s Park \n8:00AM – Foot Race \n10:30AM – Town Band \n12:00PM – Parade \nTBD – West of the Mark \n10:00PM – Fireworks! \n  \nKid Activities: \n5:00pm-8:00pm – Ultimate Video Games and Bounce House \nAll day: Life size games! Connect 4\, Jenga\, Tic Tac Toe\, and Bag Toss.
URL:https://lancastervillageny.gov/event/4th-of-july-event/
LOCATION:Central Business District
CATEGORIES:Adult Events,Family Events,Sanctioned Events
END:VEVENT
END:VCALENDAR