BEGIN:VCALENDAR
VERSION:2.0
PRODID:-//Village of Lancaster, NY - ECPv6.15.17.1//NONSGML v1.0//EN
CALSCALE:GREGORIAN
METHOD:PUBLISH
X-ORIGINAL-URL:https://lancastervillageny.gov
X-WR-CALDESC:Events for Village of Lancaster, NY
REFRESH-INTERVAL;VALUE=DURATION:PT1H
X-Robots-Tag:noindex
X-PUBLISHED-TTL:PT1H
BEGIN:VTIMEZONE
TZID:America/New_York
BEGIN:DAYLIGHT
TZOFFSETFROM:-0500
TZOFFSETTO:-0400
TZNAME:EDT
DTSTART:20220313T070000
END:DAYLIGHT
BEGIN:STANDARD
TZOFFSETFROM:-0400
TZOFFSETTO:-0500
TZNAME:EST
DTSTART:20221106T060000
END:STANDARD
BEGIN:DAYLIGHT
TZOFFSETFROM:-0500
TZOFFSETTO:-0400
TZNAME:EDT
DTSTART:20230312T070000
END:DAYLIGHT
BEGIN:STANDARD
TZOFFSETFROM:-0400
TZOFFSETTO:-0500
TZNAME:EST
DTSTART:20231105T060000
END:STANDARD
BEGIN:DAYLIGHT
TZOFFSETFROM:-0500
TZOFFSETTO:-0400
TZNAME:EDT
DTSTART:20240310T070000
END:DAYLIGHT
BEGIN:STANDARD
TZOFFSETFROM:-0400
TZOFFSETTO:-0500
TZNAME:EST
DTSTART:20241103T060000
END:STANDARD
BEGIN:DAYLIGHT
TZOFFSETFROM:-0500
TZOFFSETTO:-0400
TZNAME:EDT
DTSTART:20250309T070000
END:DAYLIGHT
BEGIN:STANDARD
TZOFFSETFROM:-0400
TZOFFSETTO:-0500
TZNAME:EST
DTSTART:20251102T060000
END:STANDARD
END:VTIMEZONE
BEGIN:VEVENT
DTSTART;TZID=America/New_York:20231231T220000
DTEND;TZID=America/New_York:20240101T010000
DTSTAMP:20260422T082312
CREATED:20231227T145634Z
LAST-MODIFIED:20231229T162747Z
UID:10001323-1704060000-1704070800@lancastervillageny.gov
SUMMARY:New Year's Eve Event
DESCRIPTION:Bring in the New Year with the Village of Lancaster! Our event will be held at the corner of Aurora St. and West Main St. from 10:00p.m. until 1:00a.m. There will be free ice skating (bring your skates!)\, a DJ\, food trucks\, hot chocolate\, and more! Celebrate the ball drop at midnight with fireworks presented by Skylighters of New York! \n \n 
URL:https://lancastervillageny.gov/event/new-years-eve-event/
LOCATION:Central Business District
CATEGORIES:Adult Events,Family Events,Sanctioned Events
END:VEVENT
BEGIN:VEVENT
DTSTART;TZID=America/New_York:20240101T180000
DTEND;TZID=America/New_York:20240101T220000
DTSTAMP:20260422T082312
CREATED:20231227T145837Z
LAST-MODIFIED:20231227T150913Z
UID:10001324-1704132000-1704146400@lancastervillageny.gov
SUMMARY:Demi-Semi Formal
DESCRIPTION:2024 is the Village of Lancaster’s 175th Anniversary!\n\n\n\n\nThe first of many events in the coming year will be the Demi-Semi Formal on January 1st! Celebrate the new year with a cocktail party at the historic Opera House. Enjoy hors d’oeuvres\, dessert\, and a cash bar. Village resident and American Idol performer\, John Stevens\, will be there to entertain with his trio\, too!\n\n\n\nGet your tickets here: https://www.lancasteropera.org/shows/the-demi-semi-formal/
URL:https://lancastervillageny.gov/event/demi-semi-formal/
LOCATION:Lancaster Opera House\, 21 Central Ave\, Lancaster\, NY\, 14086\, United States
CATEGORIES:Adult Events,Sanctioned Events
END:VEVENT
END:VCALENDAR