BEGIN:VCALENDAR
VERSION:2.0
PRODID:-//Village of Lancaster, NY - ECPv6.15.17.1//NONSGML v1.0//EN
CALSCALE:GREGORIAN
METHOD:PUBLISH
X-WR-CALNAME:Village of Lancaster, NY
X-ORIGINAL-URL:https://lancastervillageny.gov
X-WR-CALDESC:Events for Village of Lancaster, NY
REFRESH-INTERVAL;VALUE=DURATION:PT1H
X-Robots-Tag:noindex
X-PUBLISHED-TTL:PT1H
BEGIN:VTIMEZONE
TZID:America/New_York
BEGIN:DAYLIGHT
TZOFFSETFROM:-0500
TZOFFSETTO:-0400
TZNAME:EDT
DTSTART:20230312T070000
END:DAYLIGHT
BEGIN:STANDARD
TZOFFSETFROM:-0400
TZOFFSETTO:-0500
TZNAME:EST
DTSTART:20231105T060000
END:STANDARD
BEGIN:DAYLIGHT
TZOFFSETFROM:-0500
TZOFFSETTO:-0400
TZNAME:EDT
DTSTART:20240310T070000
END:DAYLIGHT
BEGIN:STANDARD
TZOFFSETFROM:-0400
TZOFFSETTO:-0500
TZNAME:EST
DTSTART:20241103T060000
END:STANDARD
BEGIN:DAYLIGHT
TZOFFSETFROM:-0500
TZOFFSETTO:-0400
TZNAME:EDT
DTSTART:20250309T070000
END:DAYLIGHT
BEGIN:STANDARD
TZOFFSETFROM:-0400
TZOFFSETTO:-0500
TZNAME:EST
DTSTART:20251102T060000
END:STANDARD
END:VTIMEZONE
BEGIN:VEVENT
DTSTART;TZID=America/New_York:20240319T120000
DTEND;TZID=America/New_York:20240319T210000
DTSTAMP:20260422T053651
CREATED:20240318T133745Z
LAST-MODIFIED:20240318T133745Z
UID:10001366-1710849600-1710882000@lancastervillageny.gov
SUMMARY:Special Election- Village Trustee (1-Year Term)
DESCRIPTION:The Village of Lancaster will be holding a Special Election on Tuesday\, March 19\, 2024\, from 12:00p.m.-9:00p.m. on the second floor of the Municipal Building. \n  \nTo see the official legal notice\, please click here.
URL:https://lancastervillageny.gov/event/special-election-village-trustee-1-year-term/
LOCATION:Municipal Building\, 5423 Broadway\, Lancaster\, NY\, 14086\, United States
CATEGORIES:Adult Events
END:VEVENT
END:VCALENDAR