BEGIN:VCALENDAR
VERSION:2.0
PRODID:-//Village of Lancaster, NY - ECPv6.15.17.1//NONSGML v1.0//EN
CALSCALE:GREGORIAN
METHOD:PUBLISH
X-ORIGINAL-URL:https://lancastervillageny.gov
X-WR-CALDESC:Events for Village of Lancaster, NY
REFRESH-INTERVAL;VALUE=DURATION:PT1H
X-Robots-Tag:noindex
X-PUBLISHED-TTL:PT1H
BEGIN:VTIMEZONE
TZID:America/New_York
BEGIN:DAYLIGHT
TZOFFSETFROM:-0500
TZOFFSETTO:-0400
TZNAME:EDT
DTSTART:20230312T070000
END:DAYLIGHT
BEGIN:STANDARD
TZOFFSETFROM:-0400
TZOFFSETTO:-0500
TZNAME:EST
DTSTART:20231105T060000
END:STANDARD
BEGIN:DAYLIGHT
TZOFFSETFROM:-0500
TZOFFSETTO:-0400
TZNAME:EDT
DTSTART:20240310T070000
END:DAYLIGHT
BEGIN:STANDARD
TZOFFSETFROM:-0400
TZOFFSETTO:-0500
TZNAME:EST
DTSTART:20241103T060000
END:STANDARD
BEGIN:DAYLIGHT
TZOFFSETFROM:-0500
TZOFFSETTO:-0400
TZNAME:EDT
DTSTART:20250309T070000
END:DAYLIGHT
BEGIN:STANDARD
TZOFFSETFROM:-0400
TZOFFSETTO:-0500
TZNAME:EST
DTSTART:20251102T060000
END:STANDARD
END:VTIMEZONE
BEGIN:VEVENT
DTSTART;TZID=America/New_York:20240409T120000
DTEND;TZID=America/New_York:20240409T210000
DTSTAMP:20260422T040631
CREATED:20240325T201124Z
LAST-MODIFIED:20240325T201124Z
UID:10001381-1712664000-1712696400@lancastervillageny.gov
SUMMARY:Runoff Special Election- 1 Year Term for Village Trustee
DESCRIPTION:The Erie County Board of Elections Bi-Partisan Team met this afternoon\, March 25th\, to recount the physical ballots from last week’s special election which resulted in a tie with 248 votes for David Santoro and William C. Schroeder. Both candidates were in attendance during the recanvass. Following the recount of ballots\, it was confirmed by the Erie County Board of Elections that the results remained the same at 248 votes each. The write-in votes were also reviewed with 32 votes counted for Joseph Lista.\n\n\n\nAs a result of the tie between Mr. Santoro and Mr. Schroeder\, there will be a runoff election on Tuesday\, April 9\, 2024\, as prescribed by Village Election Law. This election will take place at the Lancaster Municipal Building\, 5423 Broadway\, during the hours from 12:00 noon until 9:00 p.m. The ballot for this runoff election will only include the names of David Santoro and William C. Schroeder. There will be no write in votes allowed as the runoff election is only between the 2 candidates who were tied in votes.
URL:https://lancastervillageny.gov/event/runoff-special-election-1-year-term-for-village-trustee/
LOCATION:Municipal Building\, 5423 Broadway\, Lancaster\, NY\, 14086\, United States
CATEGORIES:Adult Events
END:VEVENT
BEGIN:VEVENT
DTSTART;TZID=America/New_York:20240425T193000
DTEND;TZID=America/New_York:20240425T203000
DTSTAMP:20260422T040631
CREATED:20240416T140901Z
LAST-MODIFIED:20240424T141130Z
UID:10001391-1714073400-1714077000@lancastervillageny.gov
SUMMARY:175th Anniversary Guest Speaker Series: Jeffrey Budzinski
DESCRIPTION:Join Village of Lancaster Historian Jeffrey Budzinski as he presents about the history of the Village of Lancaster. Light refreshments to be provided. \nApril 25th from 7:30p.m. to 8:30p.m. at Performance Advantage Company\, 10 W Main St\, Lancaster\, NY 14086. \n 
URL:https://lancastervillageny.gov/event/175th-anniversary-guest-speaker-series-jeffrey-budzinski/
LOCATION:Performance Advantage Company\, 10 West Main St\, Lancaster\, NY\, 14086\, United States
CATEGORIES:175th Anniversary,Adult Events,Family Events
END:VEVENT
BEGIN:VEVENT
DTSTART;TZID=America/New_York:20240426T090000
DTEND;TZID=America/New_York:20240427T150000
DTSTAMP:20260422T040631
CREATED:20240222T143234Z
LAST-MODIFIED:20240222T143534Z
UID:10001335-1714122000-1714230000@lancastervillageny.gov
SUMMARY:Spring Into Action 2024: Village of Lancaster Spring Clean Up Event
DESCRIPTION:The Village of Lancaster and Lancaster Beautification is holding their annual Spring Clean Up Event from April 26-27 and May 17-18. For the PDF version and for the Sponsor Form\, click here. 
URL:https://lancastervillageny.gov/event/spring-into-action-2024-village-of-lancaster-spring-clean-up-event/
LOCATION:Central Business District
CATEGORIES:Adult Events,Family Events,Sanctioned Events
END:VEVENT
END:VCALENDAR