BEGIN:VCALENDAR
VERSION:2.0
PRODID:-//Village of Lancaster, NY - ECPv6.15.17.1//NONSGML v1.0//EN
CALSCALE:GREGORIAN
METHOD:PUBLISH
X-ORIGINAL-URL:https://lancastervillageny.gov
X-WR-CALDESC:Events for Village of Lancaster, NY
REFRESH-INTERVAL;VALUE=DURATION:PT1H
X-Robots-Tag:noindex
X-PUBLISHED-TTL:PT1H
BEGIN:VTIMEZONE
TZID:America/New_York
BEGIN:DAYLIGHT
TZOFFSETFROM:-0500
TZOFFSETTO:-0400
TZNAME:EDT
DTSTART:20230312T070000
END:DAYLIGHT
BEGIN:STANDARD
TZOFFSETFROM:-0400
TZOFFSETTO:-0500
TZNAME:EST
DTSTART:20231105T060000
END:STANDARD
BEGIN:DAYLIGHT
TZOFFSETFROM:-0500
TZOFFSETTO:-0400
TZNAME:EDT
DTSTART:20240310T070000
END:DAYLIGHT
BEGIN:STANDARD
TZOFFSETFROM:-0400
TZOFFSETTO:-0500
TZNAME:EST
DTSTART:20241103T060000
END:STANDARD
BEGIN:DAYLIGHT
TZOFFSETFROM:-0500
TZOFFSETTO:-0400
TZNAME:EDT
DTSTART:20250309T070000
END:DAYLIGHT
BEGIN:STANDARD
TZOFFSETFROM:-0400
TZOFFSETTO:-0500
TZNAME:EST
DTSTART:20251102T060000
END:STANDARD
END:VTIMEZONE
BEGIN:VEVENT
DTSTART;VALUE=DATE:20240517
DTEND;VALUE=DATE:20240520
DTSTAMP:20260422T024546
CREATED:20240213T161625Z
LAST-MODIFIED:20240213T162140Z
UID:10001334-1715904000-1716163199@lancastervillageny.gov
SUMMARY:Village-Wide Garage Sale- May 17\, 18\, & 19\, 2024
DESCRIPTION:The Village-Wide Garage Sale will be May 17\, 18\, and 19\, 2024! Please return the form to the Village of Lancaster no later than May 3\, 2024. \nFor the PDF version of the form\, click here.
URL:https://lancastervillageny.gov/event/village-wide-garage-sale-may-17-18-19-2024/
CATEGORIES:Adult Events,Family Events
END:VEVENT
BEGIN:VEVENT
DTSTART;TZID=America/New_York:20240517T100000
DTEND;TZID=America/New_York:20240518T150000
DTSTAMP:20260422T024546
CREATED:20240222T143516Z
LAST-MODIFIED:20240222T143516Z
UID:10001336-1715940000-1716044400@lancastervillageny.gov
SUMMARY:Spring Into Action 2024: Village of Lancaster Spring Clean Up Event
DESCRIPTION:The Village of Lancaster and Lancaster Beautification is holding their annual Spring Clean Up Event from April 26-27 and May 17-18. For the PDF version and for the Sponsor Form\, click here.
URL:https://lancastervillageny.gov/event/spring-into-action-2024-village-of-lancaster-spring-clean-up-event-2/
LOCATION:Central Business District
CATEGORIES:Adult Events,Family Events,Sanctioned Events
END:VEVENT
BEGIN:VEVENT
DTSTART;TZID=America/New_York:20240518T130000
DTEND;TZID=America/New_York:20240518T150000
DTSTAMP:20260422T024546
CREATED:20240408T210501Z
LAST-MODIFIED:20240507T151956Z
UID:10001382-1716037200-1716044400@lancastervillageny.gov
SUMMARY:Walking Tour- May's 175th Anniversary Event
DESCRIPTION:The next official 175th Anniversary Event is a Broadway Historic District Walking Tour courtesy of Preservation Buffalo Niagara! Come out to the Village of Lancaster on Saturday May 18th and learn about the incredible history of some of the key buildings in our Village. You might drive by them everyday\, but here’s an opportunity to take them in at a slower pace with context provided by architectural historian Brandon Kennedy!\n\n\nThis event helps support the great work done by Preservation Buffalo Niagara across our area. Tickets are $20 per person and registration is through Preservation Buffalo Niagara.\n\nTo purchase tickets\, please click here.  \n \n 
URL:https://lancastervillageny.gov/event/walking-tour-mays-175th-anniversary-event/
LOCATION:Municipal Building\, 5423 Broadway\, Lancaster\, NY\, 14086\, United States
CATEGORIES:175th Anniversary,Adult Events,Family Events
END:VEVENT
BEGIN:VEVENT
DTSTART;TZID=America/New_York:20240523T183000
DTEND;TZID=America/New_York:20240523T193000
DTSTAMP:20260422T024546
CREATED:20240408T210955Z
LAST-MODIFIED:20240430T125433Z
UID:10001383-1716489000-1716492600@lancastervillageny.gov
SUMMARY:175th Anniversary Guest Speaker Series: Kara Stock
DESCRIPTION:Learn about the history of the Lancaster Library and its place in the Village of Lancaster on May 23\, 2024 at 6:30p.m. at the Lancaster Library.
URL:https://lancastervillageny.gov/event/175th-anniversary-guest-speaker-series-kara-stock/
LOCATION:Lancaster Public Library\, 5466 Broadway\, Lancaster\, NY\, 14086\, United States
CATEGORIES:175th Anniversary,Adult Events,Family Events
END:VEVENT
END:VCALENDAR