BEGIN:VCALENDAR
VERSION:2.0
PRODID:-//Village of Lancaster, NY - ECPv6.15.17.1//NONSGML v1.0//EN
CALSCALE:GREGORIAN
METHOD:PUBLISH
X-WR-CALNAME:Village of Lancaster, NY
X-ORIGINAL-URL:https://lancastervillageny.gov
X-WR-CALDESC:Events for Village of Lancaster, NY
REFRESH-INTERVAL;VALUE=DURATION:PT1H
X-Robots-Tag:noindex
X-PUBLISHED-TTL:PT1H
BEGIN:VTIMEZONE
TZID:America/New_York
BEGIN:DAYLIGHT
TZOFFSETFROM:-0500
TZOFFSETTO:-0400
TZNAME:EDT
DTSTART:20230312T070000
END:DAYLIGHT
BEGIN:STANDARD
TZOFFSETFROM:-0400
TZOFFSETTO:-0500
TZNAME:EST
DTSTART:20231105T060000
END:STANDARD
BEGIN:DAYLIGHT
TZOFFSETFROM:-0500
TZOFFSETTO:-0400
TZNAME:EDT
DTSTART:20240310T070000
END:DAYLIGHT
BEGIN:STANDARD
TZOFFSETFROM:-0400
TZOFFSETTO:-0500
TZNAME:EST
DTSTART:20241103T060000
END:STANDARD
BEGIN:DAYLIGHT
TZOFFSETFROM:-0500
TZOFFSETTO:-0400
TZNAME:EDT
DTSTART:20250309T070000
END:DAYLIGHT
BEGIN:STANDARD
TZOFFSETFROM:-0400
TZOFFSETTO:-0500
TZNAME:EST
DTSTART:20251102T060000
END:STANDARD
BEGIN:DAYLIGHT
TZOFFSETFROM:-0500
TZOFFSETTO:-0400
TZNAME:EDT
DTSTART:20260308T070000
END:DAYLIGHT
BEGIN:STANDARD
TZOFFSETFROM:-0400
TZOFFSETTO:-0500
TZNAME:EST
DTSTART:20261101T060000
END:STANDARD
BEGIN:DAYLIGHT
TZOFFSETFROM:-0500
TZOFFSETTO:-0400
TZNAME:EDT
DTSTART:20270314T070000
END:DAYLIGHT
BEGIN:STANDARD
TZOFFSETFROM:-0400
TZOFFSETTO:-0500
TZNAME:EST
DTSTART:20271107T060000
END:STANDARD
BEGIN:DAYLIGHT
TZOFFSETFROM:-0500
TZOFFSETTO:-0400
TZNAME:EDT
DTSTART:20280312T070000
END:DAYLIGHT
BEGIN:STANDARD
TZOFFSETFROM:-0400
TZOFFSETTO:-0500
TZNAME:EST
DTSTART:20281105T060000
END:STANDARD
END:VTIMEZONE
BEGIN:VEVENT
DTSTART;TZID=America/New_York:20240720T100000
DTEND;TZID=America/New_York:20240720T163000
DTSTAMP:20260422T180508
CREATED:20240226T205401Z
LAST-MODIFIED:20240718T131526Z
UID:10001339-1721469600-1721493000@lancastervillageny.gov
SUMMARY:Lancaster Garden Walk
DESCRIPTION:The 21st Anniversary of the Lancaster Garden Walk will take place from Friday\, July 19\, 2024 – Sunday July 21\, 2024. \nFriday\, July 19\, 2024\, from 8:30p.m.-11:00p.m. \nSaturday\, July 20\, 2024\, from 10:00a.m.-4:30p.m. \nSunday\, July 21\, 2024\, from 10:00a.m.-4:30p.m.
URL:https://lancastervillageny.gov/event/lancaster-garden-walk-5/
CATEGORIES:Adult Events,Family Events,Sanctioned Events
END:VEVENT
BEGIN:VEVENT
DTSTART;TZID=America/New_York:20240721T100000
DTEND;TZID=America/New_York:20240721T163000
DTSTAMP:20260422T180508
CREATED:20240226T205559Z
LAST-MODIFIED:20240718T131551Z
UID:10001340-1721556000-1721579400@lancastervillageny.gov
SUMMARY:Lancaster Garden Walk
DESCRIPTION:The 21st Anniversary of the Lancaster Garden Walk will take place from Friday\, July 19\, 2024 – Sunday July 21\, 2024. \nFriday\, July 19\, 2024\, from 8:30p.m.-11:00p.m. \nSaturday\, July 20\, 2024\, from 10:00a.m.-4:30p.m. \nSunday\, July 21\, 2024\, from 10:00a.m.-4:30p.m.
URL:https://lancastervillageny.gov/event/lancaster-garden-walk-6/
CATEGORIES:Adult Events,Family Events,Sanctioned Events
END:VEVENT
BEGIN:VEVENT
DTSTART;TZID=America/New_York:20240810T090000
DTEND;TZID=America/New_York:20240810T100000
DTSTAMP:20260422T180508
CREATED:20240709T160518Z
LAST-MODIFIED:20240709T160518Z
UID:10001406-1723280400-1723284000@lancastervillageny.gov
SUMMARY:Walking Tour with Explore Buffalo- August's 175th Anniversary Event
DESCRIPTION:Join us August 10\, 2024 at 9:00am. at the Lancaster Historical Society and Museum for a walking tour with Explore Buffalo! \nTickets and tour information can be found at Explore Buffalo’s website: https://explorebuffalo.org/beyond-buffalo/lancaster/
URL:https://lancastervillageny.gov/event/walking-tour-with-explore-buffalo-augusts-175th-anniversary-event-2/
LOCATION:Lancaster Historical Society and Museum\, 40 Clark St\, Lancaster\, NY\, 14086\, United States
CATEGORIES:175th Anniversary,Adult Events,Family Events
END:VEVENT
BEGIN:VEVENT
DTSTART;TZID=America/New_York:20240810T100000
DTEND;TZID=America/New_York:20240810T140000
DTSTAMP:20260422T180508
CREATED:20240408T212155Z
LAST-MODIFIED:20240408T212155Z
UID:10001387-1723284000-1723298400@lancastervillageny.gov
SUMMARY:Walking Tour with Explore Buffalo- August's 175th Anniversary Event
DESCRIPTION:Join us August 10\, 2024 at 10:00a.m. at the Lancaster Historical Society and Museum for a walking tour with Explore Buffalo! \nTickets and tour information can be found at Explore Buffalo’s website: https://explorebuffalo.org/beyond-buffalo/lancaster/
URL:https://lancastervillageny.gov/event/walking-tour-with-explore-buffalo-augusts-175th-anniversary-event/
LOCATION:Lancaster Historical Society and Museum\, 40 Clark St\, Lancaster\, NY\, 14086\, United States
CATEGORIES:175th Anniversary,Adult Events,Family Events
END:VEVENT
BEGIN:VEVENT
DTSTART;TZID=America/New_York:20240817T120000
DTEND;TZID=America/New_York:20240817T170000
DTSTAMP:20260422T180508
CREATED:20240408T213251Z
LAST-MODIFIED:20240408T213251Z
UID:10001388-1723896000-1723914000@lancastervillageny.gov
SUMMARY:Porchfest - August's 175th Anniversary Event
DESCRIPTION:Porchfest in the Village of Lancaster will be held August 17\, 2024\, from 12:00p.m.-5:00p.m. \nRegistration and additional information will be available soon!
URL:https://lancastervillageny.gov/event/porchfest-augusts-175th-anniversary-event/
LOCATION:Central Business District
CATEGORIES:175th Anniversary,Adult Events,Family Events
END:VEVENT
BEGIN:VEVENT
DTSTART;TZID=America/New_York:20241005T190000
DTEND;TZID=America/New_York:20241005T200000
DTSTAMP:20260422T180508
CREATED:20240917T155217Z
LAST-MODIFIED:20240917T155305Z
UID:10001410-1728154800-1728158400@lancastervillageny.gov
SUMMARY:175th Anniversary Speaker Series : MaryJo Monin
DESCRIPTION:Town Historian MaryJo Monin and her fellow team of volunteers will speak about the ongoing efforts to restore Lancaster’s Pioneer Cemeteries. \nThe presentation will be held at 100 Oxford Ave. (Lancaster Senior Center) on 10/5/2024 at 7:00PM \nTo find out more information\, please click here.
URL:https://lancastervillageny.gov/event/17th-anniversary-speaker-series-maryjo-monin/
LOCATION:Lancaster Senior Citizens Center\, 100 Oxford Ave\, Lancaster\, NY\, 14086
CATEGORIES:175th Anniversary,Adult Events,Family Events,Historic Preservation Commission
END:VEVENT
BEGIN:VEVENT
DTSTART;TZID=America/New_York:20241101T100000
DTEND;TZID=America/New_York:20241101T140000
DTSTAMP:20260422T180508
CREATED:20241024T183725Z
LAST-MODIFIED:20241024T183725Z
UID:10001426-1730455200-1730469600@lancastervillageny.gov
SUMMARY:Beautification- Fall Clean Up
DESCRIPTION:Lancaster’s Beautification Committee will be hosting their final Fall Clean Up event in the downtown business district.\nFriday November 1st from 10-2 and Saturday November 2nd from 9-3
URL:https://lancastervillageny.gov/event/beautification-fall-clean-up/2024-11-01/
LOCATION:Central Business District
CATEGORIES:Adult Events,Family Events,Village Event
END:VEVENT
BEGIN:VEVENT
DTSTART;TZID=America/New_York:20241102T090000
DTEND;TZID=America/New_York:20241102T150000
DTSTAMP:20260422T180508
CREATED:20241024T183725Z
LAST-MODIFIED:20241024T183725Z
UID:10001427-1730538000-1730559600@lancastervillageny.gov
SUMMARY:Beautification- Fall Clean Up
DESCRIPTION:Lancaster’s Beautification Committee will be hosting their final Fall Clean Up event in the downtown business district.\nFriday November 1st from 10-2 and Saturday November 2nd from 9-3
URL:https://lancastervillageny.gov/event/beautification-fall-clean-up/2024-11-02/
LOCATION:Central Business District
CATEGORIES:Adult Events,Family Events,Village Event
END:VEVENT
BEGIN:VEVENT
DTSTART;TZID=America/New_York:20241107T180000
DTEND;TZID=America/New_York:20241107T190000
DTSTAMP:20260422T180508
CREATED:20241023T020314Z
LAST-MODIFIED:20241023T020314Z
UID:10001425-1731002400-1731006000@lancastervillageny.gov
SUMMARY:175th Speaker Series: Casimer "Casey" Bukowski
DESCRIPTION:
URL:https://lancastervillageny.gov/event/175th-speaker-series-casimer-casey-bukowski/
LOCATION:Municipal Building\, 5423 Broadway\, Lancaster\, NY\, 14086\, United States
CATEGORIES:175th Anniversary,Adult Events,Family Events
END:VEVENT
BEGIN:VEVENT
DTSTART;TZID=America/New_York:20241217T190000
DTEND;TZID=America/New_York:20241217T200000
DTSTAMP:20260422T180508
CREATED:20241204T155021Z
LAST-MODIFIED:20241204T155338Z
UID:10001431-1734462000-1734465600@lancastervillageny.gov
SUMMARY:175th Anniversary Speaker Series: Lancaster's Historic Homes
DESCRIPTION:For the final Speaker Series of the 175th Anniversary Celebration\, join Jeffrey Budzinski\, Sherry Campbell\, and Tom Sweeney as they discuss and present about several of the key historic homes in the Village of Lancaster. Take the opportunity to learn a bit more about the history of the Village as we close out the celebration year! \nStick around after the discussion to find out the winners of the 175th Anniversary Holiday Home Decorating Contest! (Note that there is no requirement for the participants to attend\, though it would be great if they could!)
URL:https://lancastervillageny.gov/event/175th-anniversary-speaker-series-lancasters-historic-homes/
LOCATION:Lancaster Opera House\, 21 Central Ave\, Lancaster\, NY\, 14086\, United States
CATEGORIES:175th Anniversary,Adult Events,Family Events
END:VEVENT
BEGIN:VEVENT
DTSTART;TZID=America/New_York:20250318T120000
DTEND;TZID=America/New_York:20250318T210000
DTSTAMP:20260422T180508
CREATED:20250312T142045Z
LAST-MODIFIED:20250312T142131Z
UID:10001433-1742299200-1742331600@lancastervillageny.gov
SUMMARY:Village of Lancaster's Election
DESCRIPTION:TO THE ELECTORS OF THE\nVILLAGE OF LANCASTER\, NEW YORK \nThe following is a true and correct list of all offices to be voted for at the Village Election on Tuesday\, March 18\, 2025: \nMAYOR (4 Year Term) (Vote for One) – William C. Schroeder\, 182 Central Avenue\, Citizens’ Party. \nJUSTICE (4 Year Term) (Vote for One) – Ryan E. Hadsall\, 11 Cayuga Avenue\, Citizens’ Party. \nTRUSTEE (4 Year Term) (Vote for Two) – Deirdre A. Miller\, 267 Lake Avenue\, Citizens’ Party; Gavin J. O’Brien\, 10 Livingston Street\, Citizens’ Party. \nThe following is the designated polling place for each of the voting districts within the Village: \n             ALL Districts (#1 through #7) – Municipal Building\, 5423 Broadway; \nPolls will open at 12:00 Noon and will close at 9:00 p.m.  The polling place is handicapped accessible. \nMichael E. Stegmeier \nVillage Clerk
URL:https://lancastervillageny.gov/event/village-of-lancaster-election/
LOCATION:Municipal Building\, 5423 Broadway\, Lancaster\, NY\, 14086\, United States
CATEGORIES:Adult Events
END:VEVENT
BEGIN:VEVENT
DTSTART;TZID=America/New_York:20250522T100000
DTEND;TZID=America/New_York:20250522T140000
DTSTAMP:20260422T180508
CREATED:20250522T144344Z
LAST-MODIFIED:20250522T144344Z
UID:10001449-1747908000-1747922400@lancastervillageny.gov
SUMMARY:Lancaster Legendary Rides Car Show
DESCRIPTION:Join us for Lancaster Legendary Rides Car Show to be held Sunday\, June 22nd from 10:00am – 2:00p.m. in the Clark St Parking Lot and Central Ave with live music from Hot Hot Heat and Terry Buckwald as Elvis! There will be 1st\, 2nd\, and 3rd place prizes sponsored by Skoob’s. \nTo sign up\, please see the below Car Show Application. \nCar Show Application
URL:https://lancastervillageny.gov/event/lancaster-legendary-rides-car-show/
LOCATION:Central Business District
CATEGORIES:Adult Events,Family Events,Village Event
END:VEVENT
BEGIN:VEVENT
DTSTART;TZID=America/New_York:20250622T100000
DTEND;TZID=America/New_York:20250622T140000
DTSTAMP:20260422T180508
CREATED:20250522T185312Z
LAST-MODIFIED:20250522T190951Z
UID:10001451-1750586400-1750600800@lancastervillageny.gov
SUMMARY:Lancaster Legendary Rides Car Show
DESCRIPTION:Join us for Lancaster Legendary Rides Car Show to be held Sunday\, June 22nd from 10:00am – 2:00p.m. in the Clark St Parking Lot and Central Ave with live music from More Heat and Terry Buckwald as Elvis! There will be 1st\, 2nd\, and 3rd place prizes sponsored by Skoob’s. \nTo sign up\, please see the below Car Show Application:\nCar Show Application
URL:https://lancastervillageny.gov/event/lancaster-legendary-rides-car-show-2/
LOCATION:Central Business District
CATEGORIES:Adult Events,Family Events,Village Event
END:VEVENT
BEGIN:VEVENT
DTSTART;TZID=America/New_York:20250704T080000
DTEND;TZID=America/New_York:20250704T100000
DTSTAMP:20260422T180508
CREATED:20250522T143721Z
LAST-MODIFIED:20250522T143759Z
UID:10001448-1751616000-1751623200@lancastervillageny.gov
SUMMARY:Depew-Lancaster Boys and Girls Club 4th of July 10k and Relay
DESCRIPTION:This race is held by the Boys & Girls Club. Please visit Depew-Lancaster Boys and Girls Club 4th of July 10k and Relay for more information.
URL:https://lancastervillageny.gov/event/depew-lancaster-boys-and-girls-club-4th-of-july-10k-and-relay/
CATEGORIES:Adult Events,Family Events,Village Event
END:VEVENT
BEGIN:VEVENT
DTSTART;TZID=America/New_York:20250718T203000
DTEND;TZID=America/New_York:20250718T230000
DTSTAMP:20260422T180508
CREATED:20241024T190440Z
LAST-MODIFIED:20241024T190440Z
UID:10001428-1752870600-1752879600@lancastervillageny.gov
SUMMARY:Garden Walk 2025
DESCRIPTION:The Village of Lancaster’s Garden Walk will be held on the following days: \nFriday\, July 18th from 8:30pm-11:00pm \nSaturday\, July 19th from 10am-4:30pm \nSunday\, July 20th from 10am-4:30 \nTo submit your garden for the Garden Walk\, please fill out the entry form: Lancaster Garden Walk Entry Form
URL:https://lancastervillageny.gov/event/garden-walk-2025/2025-07-18/
CATEGORIES:Adult Events,Family Events,Village Event
END:VEVENT
BEGIN:VEVENT
DTSTART;TZID=America/New_York:20250719T100000
DTEND;TZID=America/New_York:20250719T163000
DTSTAMP:20260422T180508
CREATED:20241024T190440Z
LAST-MODIFIED:20241024T190440Z
UID:10001429-1752919200-1752942600@lancastervillageny.gov
SUMMARY:Garden Walk 2025
DESCRIPTION:The Village of Lancaster’s Garden Walk will be held on the following days: \nFriday\, July 18th from 8:30pm-11:00pm \nSaturday\, July 19th from 10am-4:30pm \nSunday\, July 20th from 10am-4:30 \nTo submit your garden for the Garden Walk\, please fill out the entry form: Lancaster Garden Walk Entry Form
URL:https://lancastervillageny.gov/event/garden-walk-2025/2025-07-19/
CATEGORIES:Adult Events,Family Events,Village Event
END:VEVENT
BEGIN:VEVENT
DTSTART;TZID=America/New_York:20250720T100000
DTEND;TZID=America/New_York:20250720T163000
DTSTAMP:20260422T180508
CREATED:20241024T190440Z
LAST-MODIFIED:20241024T190440Z
UID:10001430-1753005600-1753029000@lancastervillageny.gov
SUMMARY:Garden Walk 2025
DESCRIPTION:The Village of Lancaster’s Garden Walk will be held on the following days: \nFriday\, July 18th from 8:30pm-11:00pm \nSaturday\, July 19th from 10am-4:30pm \nSunday\, July 20th from 10am-4:30 \nTo submit your garden for the Garden Walk\, please fill out the entry form: Lancaster Garden Walk Entry Form
URL:https://lancastervillageny.gov/event/garden-walk-2025/2025-07-20/
CATEGORIES:Adult Events,Family Events,Village Event
END:VEVENT
BEGIN:VEVENT
DTSTART;TZID=America/New_York:20250816T120000
DTEND;TZID=America/New_York:20250816T170000
DTSTAMP:20260422T180508
CREATED:20250522T151235Z
LAST-MODIFIED:20250522T152158Z
UID:10001450-1755345600-1755363600@lancastervillageny.gov
SUMMARY:Lancaster Village PorchFest
DESCRIPTION:Porch Fest is a community musical event in which residents will offer up their porches (or front yard\, or garages) as “stages” for musicians to perform.\nThe Village of Lancaster’s PorchFest will be held August 16th from 12:00pm-5:00pm. \nBand/ Musician Sign up: 2025 PorchFest Musician/Band Sign-Up Form \nHost Sign up: 2025 PorchFest Host Form  \nFor more information about this event\, please visit: Lancaster Village Porchfest  \n 
URL:https://lancastervillageny.gov/event/lancaster-village-porchfest/
CATEGORIES:Adult Events,Family Events,Village Event
END:VEVENT
BEGIN:VEVENT
DTSTART;TZID=America/New_York:20260515T080000
DTEND;TZID=America/New_York:20260515T170000
DTSTAMP:20260422T180508
CREATED:20260305T203606Z
LAST-MODIFIED:20260305T203725Z
UID:10001505-1778832000-1778864400@lancastervillageny.gov
SUMMARY:Village-Wide Garage Sale
DESCRIPTION:The Village of Lancaster has paired with The Bee again this year to hold the Village-Wide Garage Sale!  The event will take place May 15\, 16\, & 17th from 8am-5pm. The Village will waive the garage sale permit for this weekend and participants will get a free ad in the Lancaster Bee to promote their garage sale.  Forms are due no later than May 1st. Complementary yellow balloons will be provided by the Lancaster Bee and will be available for pick up at the Clerk’s Office after May 1st. \nGarage Sale Sign-up Form
URL:https://lancastervillageny.gov/event/village-wide-garage-sale/2026-05-15/
CATEGORIES:Adult Events,Family Events,Village Event
END:VEVENT
BEGIN:VEVENT
DTSTART;TZID=America/New_York:20260516T080000
DTEND;TZID=America/New_York:20260516T170000
DTSTAMP:20260422T180508
CREATED:20260305T203606Z
LAST-MODIFIED:20260305T203725Z
UID:10001506-1778918400-1778950800@lancastervillageny.gov
SUMMARY:Village-Wide Garage Sale
DESCRIPTION:The Village of Lancaster has paired with The Bee again this year to hold the Village-Wide Garage Sale!  The event will take place May 15\, 16\, & 17th from 8am-5pm. The Village will waive the garage sale permit for this weekend and participants will get a free ad in the Lancaster Bee to promote their garage sale.  Forms are due no later than May 1st. Complementary yellow balloons will be provided by the Lancaster Bee and will be available for pick up at the Clerk’s Office after May 1st. \nGarage Sale Sign-up Form
URL:https://lancastervillageny.gov/event/village-wide-garage-sale/2026-05-16/
CATEGORIES:Adult Events,Family Events,Village Event
END:VEVENT
BEGIN:VEVENT
DTSTART;TZID=America/New_York:20260517T080000
DTEND;TZID=America/New_York:20260517T170000
DTSTAMP:20260422T180508
CREATED:20260305T203606Z
LAST-MODIFIED:20260305T203725Z
UID:10001507-1779004800-1779037200@lancastervillageny.gov
SUMMARY:Village-Wide Garage Sale
DESCRIPTION:The Village of Lancaster has paired with The Bee again this year to hold the Village-Wide Garage Sale!  The event will take place May 15\, 16\, & 17th from 8am-5pm. The Village will waive the garage sale permit for this weekend and participants will get a free ad in the Lancaster Bee to promote their garage sale.  Forms are due no later than May 1st. Complementary yellow balloons will be provided by the Lancaster Bee and will be available for pick up at the Clerk’s Office after May 1st. \nGarage Sale Sign-up Form
URL:https://lancastervillageny.gov/event/village-wide-garage-sale/2026-05-17/
CATEGORIES:Adult Events,Family Events,Village Event
END:VEVENT
BEGIN:VEVENT
DTSTART;TZID=America/New_York:20260614T100000
DTEND;TZID=America/New_York:20260614T140000
DTSTAMP:20260422T180508
CREATED:20260113T204949Z
LAST-MODIFIED:20260213T194049Z
UID:10001476-1781431200-1781445600@lancastervillageny.gov
SUMMARY:2026 Legendary Lancaster Car Show
DESCRIPTION:Rev up the nostalgia and join us for a one-of-a-kind celebration of classic style\, chrome\, and community! \nThe Village of Lancaster proudly invites you to the 2026 Vintage Car Show\, taking place on Sunday\, June 14\, 2026. From gleaming muscle cars to rare collector favorites and beautifully restored cruisers\, this event promises a full day of automotive history and hometown charm. \nBring the whole family to enjoy: 🚙 Dozens of vintage vehicles on display🎶 Live music & entertainment🍔 Local food vendors and refreshments🏆 Judging & awards for standout classics \nWhether you’re showcasing your ride or simply taking in the sights\, this is the perfect summer day to celebrate craftsmanship\, community pride\, and the timeless beauty of the open road. \nSave the date — June 14\, 2026 — and let’s make history together!
URL:https://lancastervillageny.gov/event/2026-legendary-lancaster-car-show/
LOCATION:Central Business District
CATEGORIES:Adult Events,Family Events,Village Event
ORGANIZER;CN="Village of Lancaster Special Events":MAILTO:events@lancastervillageny.gov
END:VEVENT
BEGIN:VEVENT
DTSTART;TZID=America/New_York:20260702T120000
DTEND;TZID=America/New_York:20260704T230000
DTSTAMP:20260422T180508
CREATED:20260212T164242Z
LAST-MODIFIED:20260212T203701Z
UID:10001479-1782993600-1783206000@lancastervillageny.gov
SUMMARY:2026 Independence Day Carnival
DESCRIPTION: Celebrate the 4th of July at the Village of Lancaster Independence Day Carnival! July 2 – July 4\, 2026\n\nGet ready for three unforgettable days of red\, white\, and blue celebration! Join us for our annual Independence Day Carnival\, happening July 2nd through July 4th\, 2026 — where community spirit meets classic summer fun!\n\nBring the whole family and enjoy:\n  \n Thrilling carnival rides for all ages Delicious festival food & sweet treats Live music and entertainment each day Kids activities\, games & family-friendly fun A patriotic atmosphere you won’t want to miss\n\nFrom the excitement of the midway to the sounds of live music under the summer sky\, this is the place to celebrate freedom\, family\, and fun. Whether you’re enjoying a funnel cake or dancing along to your favorite songs\, there’s something for everyone!\n\nMark your calendars\, gather your friends and neighbors\, and join us as we celebrate one of the most important milestones in the history of the United States. The 250th anniversary of American Independence!\n\nWe can’t wait to celebrate with you!\n\nLooking to register for the parade? Click Here for Registration Form! Registration forms will be accepted until June 30th\, 2026. No late registration forms will be accepted.
URL:https://lancastervillageny.gov/event/2026-independence-day-carnival/
LOCATION:Central Business District
CATEGORIES:Adult Events,Family Events,Village Event
ORGANIZER;CN="Village of Lancaster Special Events":MAILTO:events@lancastervillageny.gov
END:VEVENT
BEGIN:VEVENT
DTSTART;TZID=America/New_York:20260717T203000
DTEND;TZID=America/New_York:20260717T230000
DTSTAMP:20260422T180508
CREATED:20260226T182124Z
LAST-MODIFIED:20260226T182124Z
UID:10001484-1784320200-1784329200@lancastervillageny.gov
SUMMARY:Lancaster Garden Walk 2026
DESCRIPTION:The Lancaster Garden Walk is an event where everyday gardeners put their work on display for residents to stop by and enjoy. Whether you are participating or just viewing\, the Garden Walk is a beloved event in our village. \nThe dates for the 2026 Garden Walk are: \n\nFriday\, July 17th from 8:30pm-11pm\nSaturday\, July 18th from 10am-4:30pm\nSunday\, July 19th from 10am-4:30pm\n\nLancaster Garden Walk Entry Form 2026
URL:https://lancastervillageny.gov/event/lancaster-garden-walk-2026/
CATEGORIES:Adult Events,Family Events,Village Event
END:VEVENT
BEGIN:VEVENT
DTSTART;TZID=America/New_York:20260718T100000
DTEND;TZID=America/New_York:20260718T163000
DTSTAMP:20260422T180508
CREATED:20260226T182216Z
LAST-MODIFIED:20260226T182216Z
UID:10001485-1784368800-1784392200@lancastervillageny.gov
SUMMARY:Lancaster Garden Walk 2026
DESCRIPTION:The Lancaster Garden Walk is an event where everyday gardeners put their work on display for residents to stop by and enjoy. Whether you are participating or just viewing\, the Garden Walk is a beloved event in our village. \nThe dates for the 2026 Garden Walk are: \n\nFriday\, July 17th from 8:30pm-11pm\nSaturday\, July 18th from 10am-4:30pm\nSunday\, July 19th from 10am-4:30pm\n\nLancaster Garden Walk Entry Form 2026
URL:https://lancastervillageny.gov/event/lancaster-garden-walk-2026-2/
CATEGORIES:Adult Events,Family Events,Village Event
END:VEVENT
BEGIN:VEVENT
DTSTART;TZID=America/New_York:20260719T100000
DTEND;TZID=America/New_York:20260719T163000
DTSTAMP:20260422T180508
CREATED:20260226T182302Z
LAST-MODIFIED:20260226T182302Z
UID:10001486-1784455200-1784478600@lancastervillageny.gov
SUMMARY:Lancaster Garden Walk 2026
DESCRIPTION:The Lancaster Garden Walk is an event where everyday gardeners put their work on display for residents to stop by and enjoy. Whether you are participating or just viewing\, the Garden Walk is a beloved event in our village. \nThe dates for the 2026 Garden Walk are: \n\nFriday\, July 17th from 8:30pm-11pm\nSaturday\, July 18th from 10am-4:30pm\nSunday\, July 19th from 10am-4:30pm\n\nLancaster Garden Walk Entry Form 2026
URL:https://lancastervillageny.gov/event/lancaster-garden-walk-2026-3/
CATEGORIES:Adult Events,Family Events,Village Event
END:VEVENT
BEGIN:VEVENT
DTSTART;TZID=America/New_York:20260919T100000
DTEND;TZID=America/New_York:20260919T140000
DTSTAMP:20260422T180508
CREATED:20260212T170839Z
LAST-MODIFIED:20260212T205045Z
UID:10001480-1789812000-1789826400@lancastervillageny.gov
SUMMARY:2026 Fall Festival
DESCRIPTION:🍂 You’re Invited to our 2026 Fall Festival! 🍁Saturday\, September 19\, 2026\, from 10:00 am – 2:00pm \nCrisp autumn air\, vibrant fall colors\, and the charm of community — join us for a beautiful day celebrating the best of the season at our 2026 Fall Festival on September 19\, 2026! \nStroll through a curated marketplace featuring: \n🎨 Handmade goods & artisan crafts🕯️ Seasonal décor & unique gifts🍎 Fresh baked treats & local favorites🎶 Live music & entertainment🎃 Family-friendly activities & autumn fun \nWhether you’re shopping for one-of-a-kind treasures\, savoring fall flavors\, or simply soaking in the cozy atmosphere\, this is the perfect way to welcome the season with friends and family. \nMark your calendar\, grab your favorite sweater\, and come celebrate fall with us — we can’t wait to see you there! \nCelebrate the season. Shop local. Enjoy the day. 🍁
URL:https://lancastervillageny.gov/event/2026-fall-festival/
LOCATION:Central Business District
CATEGORIES:Adult Events,Family Events,Village Event
ORGANIZER;CN="Village of Lancaster Special Events":MAILTO:events@lancastervillageny.gov
END:VEVENT
BEGIN:VEVENT
DTSTART;TZID=America/New_York:20261127T170000
DTEND;TZID=America/New_York:20261127T210000
DTSTAMP:20260422T180508
CREATED:20260212T173254Z
LAST-MODIFIED:20260212T205116Z
UID:10001481-1795798800-1795813200@lancastervillageny.gov
SUMMARY:2026 Lancaster Lights the Night
DESCRIPTION:Kick off the holiday season with an evening full of sparkle\, joy\, and community spirit at our Annual Tree Lighting Ceremony! \nJoin us on Friday\, November 27th from 5:00–9:00 PM as we gather together to celebrate the most wonderful time of the year. Enjoy the sights\, sounds\, and warmth of the season as our community comes alive with holiday cheer. \nThe evening will feature: \n🎶 Live music & performances☕ Seasonal treats & warm beverages🎅 Special guest appearances 🛍️ Festive shopping & local vendors✨ And the magical countdown to light our beautiful holiday tree! \nBring your family\, invite your friends\, and bundle up for a night filled with twinkling lights\, laughter\, and lasting memories. \nAs the clock strikes and the tree glows bright\, we’ll officially welcome the holiday season together. \nWe can’t wait to celebrate with you! 🎄✨
URL:https://lancastervillageny.gov/event/2026-light-up-lancaster/
LOCATION:Girl Scout Garden (Central Ave & Broadway St)\, 4 Central Avenue\, Lancaster\, NY\, 14086\, United States
CATEGORIES:Adult Events,Family Events,Village Event
ORGANIZER;CN="Village of Lancaster Special Events":MAILTO:events@lancastervillageny.gov
END:VEVENT
BEGIN:VEVENT
DTSTART;TZID=America/New_York:20261231T220000
DTEND;TZID=America/New_York:20270101T003000
DTSTAMP:20260422T180508
CREATED:20260212T174158Z
LAST-MODIFIED:20260212T205137Z
UID:10001482-1798754400-1798763400@lancastervillageny.gov
SUMMARY:Last Night Lancaster 2026
DESCRIPTION:✨ You’re Invited to Last Night Lancaster 2026! 🎉December 31\, 2026 \nRing in the New Year with friends\, family\, and the entire community at our annual New Year’s Eve celebration — Last Night Lancaster! \nJoin us on December 31st for an unforgettable evening filled with music\, laughter\, and hometown pride as we say goodbye to 2026 and welcome 2027 together. \nEnjoy: \n🎶 Live entertainment🎉 Family-friendly activities and interactive fun (weather dependent)❄️ Festive atmosphere throughout the evening⏰ A spectacular countdown celebration to midnight \nWhether you’re dancing to live music\, enjoying time with neighbors\, or watching the excitement build toward the big countdown\, Last Night Lancaster is the perfect way to celebrate in true community spirit. \nBundle up\, bring your friends\, and be part of a night filled with energy\, connection\, and celebration as we welcome a brand-new year together. \nLet’s make it a night to remember — see you on December 31st at Last Night Lancaster! ✨
URL:https://lancastervillageny.gov/event/last-night-lancaster-2026/
LOCATION:Central Business District
CATEGORIES:Adult Events,Family Events,Village Event
ORGANIZER;CN="Village of Lancaster Special Events":MAILTO:events@lancastervillageny.gov
END:VEVENT
END:VCALENDAR