BEGIN:VCALENDAR
VERSION:2.0
PRODID:-//Village of Lancaster, NY - ECPv6.15.17.1//NONSGML v1.0//EN
CALSCALE:GREGORIAN
METHOD:PUBLISH
X-WR-CALNAME:Village of Lancaster, NY
X-ORIGINAL-URL:https://lancastervillageny.gov
X-WR-CALDESC:Events for Village of Lancaster, NY
REFRESH-INTERVAL;VALUE=DURATION:PT1H
X-Robots-Tag:noindex
X-PUBLISHED-TTL:PT1H
BEGIN:VTIMEZONE
TZID:America/New_York
BEGIN:DAYLIGHT
TZOFFSETFROM:-0500
TZOFFSETTO:-0400
TZNAME:EDT
DTSTART:20220313T070000
END:DAYLIGHT
BEGIN:STANDARD
TZOFFSETFROM:-0400
TZOFFSETTO:-0500
TZNAME:EST
DTSTART:20221106T060000
END:STANDARD
BEGIN:DAYLIGHT
TZOFFSETFROM:-0500
TZOFFSETTO:-0400
TZNAME:EDT
DTSTART:20230312T070000
END:DAYLIGHT
BEGIN:STANDARD
TZOFFSETFROM:-0400
TZOFFSETTO:-0500
TZNAME:EST
DTSTART:20231105T060000
END:STANDARD
BEGIN:DAYLIGHT
TZOFFSETFROM:-0500
TZOFFSETTO:-0400
TZNAME:EDT
DTSTART:20240310T070000
END:DAYLIGHT
BEGIN:STANDARD
TZOFFSETFROM:-0400
TZOFFSETTO:-0500
TZNAME:EST
DTSTART:20241103T060000
END:STANDARD
END:VTIMEZONE
BEGIN:VEVENT
DTSTART;TZID=America/New_York:20230109T190000
DTEND;TZID=America/New_York:20230109T210000
DTSTAMP:20260422T181953
CREATED:20220920T151549Z
LAST-MODIFIED:20221028T181442Z
UID:10000679-1673290800-1673298000@lancastervillageny.gov
SUMMARY:Village Board Meeting
DESCRIPTION:
URL:https://lancastervillageny.gov/event/village-board-meeting-3/2023-01-09/
LOCATION:Municipal Building\, 5423 Broadway\, Lancaster\, NY\, 14086\, United States
CATEGORIES:Board Meeting
END:VEVENT
BEGIN:VEVENT
DTSTART;TZID=America/New_York:20230119T170000
DTEND;TZID=America/New_York:20230119T173000
DTSTAMP:20260422T181953
CREATED:20230117T152234Z
LAST-MODIFIED:20230117T152234Z
UID:10001169-1674147600-1674149400@lancastervillageny.gov
SUMMARY:Special Meeting
DESCRIPTION:The purpose of this meeting is to consider a proposal for legal services to be rendered by Zdarsky\, Sawicki & Agostinelli LLP with respect to matters relating to the Cayuga Creek Park construction project.
URL:https://lancastervillageny.gov/event/special-meeting-3/
LOCATION:Municipal Building\, 5423 Broadway\, Lancaster\, NY\, 14086\, United States
CATEGORIES:Board Meeting,Committee Meetings
END:VEVENT
BEGIN:VEVENT
DTSTART;TZID=America/New_York:20230123T190000
DTEND;TZID=America/New_York:20230123T210000
DTSTAMP:20260422T181953
CREATED:20221219T153437Z
LAST-MODIFIED:20221219T153438Z
UID:10000814-1674500400-1674507600@lancastervillageny.gov
SUMMARY:Village Board Meeting
DESCRIPTION:
URL:https://lancastervillageny.gov/event/village-board-meeting-2-2-2/2023-01-23/
LOCATION:Municipal Building\, 5423 Broadway\, Lancaster\, NY\, 14086\, United States
CATEGORIES:Board Meeting
END:VEVENT
BEGIN:VEVENT
DTSTART;TZID=America/New_York:20230124T170000
DTEND;TZID=America/New_York:20230124T173000
DTSTAMP:20260422T181953
CREATED:20230117T194633Z
LAST-MODIFIED:20230117T194738Z
UID:10001170-1674579600-1674581400@lancastervillageny.gov
SUMMARY:Village Board Work Session- Planning
DESCRIPTION:This is a work session for future plans and initiatives for the Village.
URL:https://lancastervillageny.gov/event/village-board-work-session-planning/
LOCATION:Municipal Building\, 5423 Broadway\, Lancaster\, NY\, 14086\, United States
CATEGORIES:Board Meeting
END:VEVENT
BEGIN:VEVENT
DTSTART;TZID=America/New_York:20230126T190000
DTEND;TZID=America/New_York:20230126T193000
DTSTAMP:20260422T181953
CREATED:20230117T195122Z
LAST-MODIFIED:20230117T195215Z
UID:10001171-1674759600-1674761400@lancastervillageny.gov
SUMMARY:Special Events Meeting
DESCRIPTION:This is a Special Events meeting for all agencies\, departments\, and merchants to discuss the events planned for 2023.
URL:https://lancastervillageny.gov/event/special-events-meeting/
LOCATION:Municipal Building\, 5423 Broadway\, Lancaster\, NY\, 14086\, United States
CATEGORIES:Board Meeting,Committee Meetings
END:VEVENT
END:VCALENDAR