BEGIN:VCALENDAR
VERSION:2.0
PRODID:-//Village of Lancaster, NY - ECPv6.15.17.1//NONSGML v1.0//EN
CALSCALE:GREGORIAN
METHOD:PUBLISH
X-ORIGINAL-URL:https://lancastervillageny.gov
X-WR-CALDESC:Events for Village of Lancaster, NY
REFRESH-INTERVAL;VALUE=DURATION:PT1H
X-Robots-Tag:noindex
X-PUBLISHED-TTL:PT1H
BEGIN:VTIMEZONE
TZID:America/New_York
BEGIN:DAYLIGHT
TZOFFSETFROM:-0500
TZOFFSETTO:-0400
TZNAME:EDT
DTSTART:20220313T070000
END:DAYLIGHT
BEGIN:STANDARD
TZOFFSETFROM:-0400
TZOFFSETTO:-0500
TZNAME:EST
DTSTART:20221106T060000
END:STANDARD
BEGIN:DAYLIGHT
TZOFFSETFROM:-0500
TZOFFSETTO:-0400
TZNAME:EDT
DTSTART:20230312T070000
END:DAYLIGHT
BEGIN:STANDARD
TZOFFSETFROM:-0400
TZOFFSETTO:-0500
TZNAME:EST
DTSTART:20231105T060000
END:STANDARD
BEGIN:DAYLIGHT
TZOFFSETFROM:-0500
TZOFFSETTO:-0400
TZNAME:EDT
DTSTART:20240310T070000
END:DAYLIGHT
BEGIN:STANDARD
TZOFFSETFROM:-0400
TZOFFSETTO:-0500
TZNAME:EST
DTSTART:20241103T060000
END:STANDARD
END:VTIMEZONE
BEGIN:VEVENT
DTSTART;TZID=America/New_York:20230814T190000
DTEND;TZID=America/New_York:20230814T210000
DTSTAMP:20260422T110202
CREATED:20220920T151549Z
LAST-MODIFIED:20221028T181442Z
UID:10000686-1692039600-1692046800@lancastervillageny.gov
SUMMARY:Village Board Meeting
DESCRIPTION:
URL:https://lancastervillageny.gov/event/village-board-meeting-3/2023-08-14/
LOCATION:Municipal Building\, 5423 Broadway\, Lancaster\, NY\, 14086\, United States
CATEGORIES:Board Meeting
END:VEVENT
BEGIN:VEVENT
DTSTART;TZID=America/New_York:20230828T190000
DTEND;TZID=America/New_York:20230828T210000
DTSTAMP:20260422T110202
CREATED:20221219T153437Z
LAST-MODIFIED:20221219T153438Z
UID:10000877-1693249200-1693256400@lancastervillageny.gov
SUMMARY:Village Board Meeting
DESCRIPTION:
URL:https://lancastervillageny.gov/event/village-board-meeting-2-2-2/2023-08-28/
LOCATION:Municipal Building\, 5423 Broadway\, Lancaster\, NY\, 14086\, United States
CATEGORIES:Board Meeting
END:VEVENT
BEGIN:VEVENT
DTSTART;TZID=America/New_York:20230829T161500
DTEND;TZID=America/New_York:20230829T170000
DTSTAMP:20260422T110202
CREATED:20230829T152346Z
LAST-MODIFIED:20230829T152346Z
UID:10001191-1693325700-1693328400@lancastervillageny.gov
SUMMARY:Special Meeting- August 29\, 2023
DESCRIPTION:Tuesday\, August 29\, 2023 at 4:15 PM\n\nThis meeting will be almost exclusively conducted in executive session as candidates for the position of DPW Superintendent may be interviewed.
URL:https://lancastervillageny.gov/event/special-meeting-august-29-2023/
LOCATION:Municipal Building\, 5423 Broadway\, Lancaster\, NY\, 14086\, United States
CATEGORIES:Board Meeting
END:VEVENT
BEGIN:VEVENT
DTSTART;TZID=America/New_York:20230831T161500
DTEND;TZID=America/New_York:20230831T170000
DTSTAMP:20260422T110202
CREATED:20230829T152447Z
LAST-MODIFIED:20230829T152447Z
UID:10001192-1693498500-1693501200@lancastervillageny.gov
SUMMARY:Special Meeting- August 31\, 2023
DESCRIPTION:Thursday\, August 31\, 2023 at 4:15 PM\n\n      This meeting will be held to discuss a mural agreement with Arts Services\, Inc. and an Artist and may also involve an executive session or confidential discussions with legal counsel. \n 
URL:https://lancastervillageny.gov/event/special-meeting-august-31-2023/
LOCATION:Municipal Building\, 5423 Broadway\, Lancaster\, NY\, 14086\, United States
CATEGORIES:Board Meeting
END:VEVENT
END:VCALENDAR