BEGIN:VCALENDAR
VERSION:2.0
PRODID:-//Village of Lancaster, NY - ECPv6.15.17.1//NONSGML v1.0//EN
CALSCALE:GREGORIAN
METHOD:PUBLISH
X-WR-CALNAME:Village of Lancaster, NY
X-ORIGINAL-URL:https://lancastervillageny.gov
X-WR-CALDESC:Events for Village of Lancaster, NY
REFRESH-INTERVAL;VALUE=DURATION:PT1H
X-Robots-Tag:noindex
X-PUBLISHED-TTL:PT1H
BEGIN:VTIMEZONE
TZID:America/New_York
BEGIN:DAYLIGHT
TZOFFSETFROM:-0500
TZOFFSETTO:-0400
TZNAME:EDT
DTSTART:20220313T070000
END:DAYLIGHT
BEGIN:STANDARD
TZOFFSETFROM:-0400
TZOFFSETTO:-0500
TZNAME:EST
DTSTART:20221106T060000
END:STANDARD
BEGIN:DAYLIGHT
TZOFFSETFROM:-0500
TZOFFSETTO:-0400
TZNAME:EDT
DTSTART:20230312T070000
END:DAYLIGHT
BEGIN:STANDARD
TZOFFSETFROM:-0400
TZOFFSETTO:-0500
TZNAME:EST
DTSTART:20231105T060000
END:STANDARD
BEGIN:DAYLIGHT
TZOFFSETFROM:-0500
TZOFFSETTO:-0400
TZNAME:EDT
DTSTART:20240310T070000
END:DAYLIGHT
BEGIN:STANDARD
TZOFFSETFROM:-0400
TZOFFSETTO:-0500
TZNAME:EST
DTSTART:20241103T060000
END:STANDARD
END:VTIMEZONE
BEGIN:VEVENT
DTSTART;TZID=America/New_York:20231204T170000
DTEND;TZID=America/New_York:20231204T180000
DTSTAMP:20260422T053358
CREATED:20231201T143414Z
LAST-MODIFIED:20231201T143442Z
UID:10001320-1701709200-1701712800@lancastervillageny.gov
SUMMARY:Special Meeting 12/4/23
DESCRIPTION:A Special Meeting will be held on Monday\, December 4\, 2023\, at 5:00p.m. for interviews\, to be held in executive session\, related to the vacant Trustee position. \n  \n 
URL:https://lancastervillageny.gov/event/special-meeting-12-4-23/
LOCATION:Municipal Building\, 5423 Broadway\, Lancaster\, NY\, 14086\, United States
CATEGORIES:Board Meeting
END:VEVENT
BEGIN:VEVENT
DTSTART;TZID=America/New_York:20231211T190000
DTEND;TZID=America/New_York:20231211T210000
DTSTAMP:20260422T053358
CREATED:20230926T175742Z
LAST-MODIFIED:20230926T175744Z
UID:10001254-1702321200-1702328400@lancastervillageny.gov
SUMMARY:Village Board Meeting
DESCRIPTION:
URL:https://lancastervillageny.gov/event/village-board-meeting-3-2-2/2023-12-11/
LOCATION:Municipal Building\, 5423 Broadway\, Lancaster\, NY\, 14086\, United States
CATEGORIES:Board Meeting
END:VEVENT
BEGIN:VEVENT
DTSTART;TZID=America/New_York:20231218T173000
DTEND;TZID=America/New_York:20231218T183000
DTSTAMP:20260422T053358
CREATED:20231218T140233Z
LAST-MODIFIED:20231218T140356Z
UID:10001322-1702920600-1702924200@lancastervillageny.gov
SUMMARY:Village Board Work Session
DESCRIPTION:The Village Board will hold a Work Session on Monday\, December 18\, 2023\, at 5:30p.m. in executive session to interview candidates for the Supervising Code Enforcement Officer position.
URL:https://lancastervillageny.gov/event/village-board-work-session/
LOCATION:Municipal Building\, 5423 Broadway\, Lancaster\, NY\, 14086\, United States
CATEGORIES:Board Meeting
END:VEVENT
BEGIN:VEVENT
DTSTART;TZID=America/New_York:20231218T183000
DTEND;TZID=America/New_York:20231218T190000
DTSTAMP:20260422T053358
CREATED:20231213T194340Z
LAST-MODIFIED:20231218T135807Z
UID:10001321-1702924200-1702926000@lancastervillageny.gov
SUMMARY:Special Meeting- December 18\, 2023
DESCRIPTION:There will be a Special Meeting held on Monday\, December 18\, 2023 at 6:30p.m. to go over New Year’s Eve contracts.
URL:https://lancastervillageny.gov/event/special-meeting-december-18-2023/
LOCATION:Municipal Building\, 5423 Broadway\, Lancaster\, NY\, 14086\, United States
CATEGORIES:Board Meeting
END:VEVENT
BEGIN:VEVENT
DTSTART;TZID=America/New_York:20231225T190000
DTEND;TZID=America/New_York:20231225T210000
DTSTAMP:20260422T053358
CREATED:20221219T153437Z
LAST-MODIFIED:20221219T153438Z
UID:10000881-1703530800-1703538000@lancastervillageny.gov
SUMMARY:Village Board Meeting
DESCRIPTION:
URL:https://lancastervillageny.gov/event/village-board-meeting-2-2-2/2023-12-25/
LOCATION:Municipal Building\, 5423 Broadway\, Lancaster\, NY\, 14086\, United States
CATEGORIES:Board Meeting
END:VEVENT
END:VCALENDAR