BEGIN:VCALENDAR
VERSION:2.0
PRODID:-//Village of Lancaster, NY - ECPv6.15.17.1//NONSGML v1.0//EN
CALSCALE:GREGORIAN
METHOD:PUBLISH
X-ORIGINAL-URL:https://lancastervillageny.gov
X-WR-CALDESC:Events for Village of Lancaster, NY
REFRESH-INTERVAL;VALUE=DURATION:PT1H
X-Robots-Tag:noindex
X-PUBLISHED-TTL:PT1H
BEGIN:VTIMEZONE
TZID:America/New_York
BEGIN:DAYLIGHT
TZOFFSETFROM:-0500
TZOFFSETTO:-0400
TZNAME:EDT
DTSTART:20230312T070000
END:DAYLIGHT
BEGIN:STANDARD
TZOFFSETFROM:-0400
TZOFFSETTO:-0500
TZNAME:EST
DTSTART:20231105T060000
END:STANDARD
BEGIN:DAYLIGHT
TZOFFSETFROM:-0500
TZOFFSETTO:-0400
TZNAME:EDT
DTSTART:20240310T070000
END:DAYLIGHT
BEGIN:STANDARD
TZOFFSETFROM:-0400
TZOFFSETTO:-0500
TZNAME:EST
DTSTART:20241103T060000
END:STANDARD
BEGIN:DAYLIGHT
TZOFFSETFROM:-0500
TZOFFSETTO:-0400
TZNAME:EDT
DTSTART:20250309T070000
END:DAYLIGHT
BEGIN:STANDARD
TZOFFSETFROM:-0400
TZOFFSETTO:-0500
TZNAME:EST
DTSTART:20251102T060000
END:STANDARD
END:VTIMEZONE
BEGIN:VEVENT
DTSTART;TZID=America/New_York:20240408T173000
DTEND;TZID=America/New_York:20240408T180000
DTSTAMP:20260421T234138
CREATED:20240312T193845Z
LAST-MODIFIED:20240320T135711Z
UID:10001343-1712597400-1712599200@lancastervillageny.gov
SUMMARY:Annual Organizational Meeting
DESCRIPTION:The annual organizational meeting for the 2024-2025 official year will be held in Council Chambers on Monday\, April 8\, 2024\, at 5:30 p.m. \nTo see the Public Notice\, please click here. 
URL:https://lancastervillageny.gov/event/annual-organizational-meeting/
LOCATION:Municipal Building\, 5423 Broadway\, Lancaster\, NY\, 14086\, United States
CATEGORIES:Board Meeting
END:VEVENT
BEGIN:VEVENT
DTSTART;TZID=America/New_York:20240408T190000
DTEND;TZID=America/New_York:20240408T210000
DTSTAMP:20260421T234138
CREATED:20230926T175742Z
LAST-MODIFIED:20230926T175744Z
UID:10001258-1712602800-1712610000@lancastervillageny.gov
SUMMARY:Village Board Meeting
DESCRIPTION:
URL:https://lancastervillageny.gov/event/village-board-meeting-3-2-2/2024-04-08/
LOCATION:Municipal Building\, 5423 Broadway\, Lancaster\, NY\, 14086\, United States
CATEGORIES:Board Meeting
END:VEVENT
BEGIN:VEVENT
DTSTART;TZID=America/New_York:20240408T191500
DTEND;TZID=America/New_York:20240408T200000
DTSTAMP:20260421T234138
CREATED:20240312T193602Z
LAST-MODIFIED:20240320T140140Z
UID:10001342-1712603700-1712606400@lancastervillageny.gov
SUMMARY:Public Hearing- Proposed Budget for the 2024-2025 Fiscal Year
DESCRIPTION:There will be a public hearing in Council Chambers on Monday\, April 8\, 2024\, at 7:15 p.m. to consider public comments and feedback regarding the proposed budget for the 2024 – 2025 fiscal year. \nNOTE- The tentative budget will be filed in the Clerk-Treasurer’s Office no later than March 20\, 2024\, and will be presented to the Village Board at the March 25th regular meeting. \nTo see the Public Hearing notice\, please click here. \n  \n 
URL:https://lancastervillageny.gov/event/public-hearing-proposed-budget-for-the-2024-2025-fiscal-year/
LOCATION:NY
CATEGORIES:Board Meeting,Public Hearing
END:VEVENT
BEGIN:VEVENT
DTSTART;TZID=America/New_York:20240415T161500
DTEND;TZID=America/New_York:20240415T171500
DTSTAMP:20260421T234138
CREATED:20240415T150856Z
LAST-MODIFIED:20240415T150856Z
UID:10001389-1713197700-1713201300@lancastervillageny.gov
SUMMARY:Annual Budget Meeting
DESCRIPTION:The Annual Budget Meeting will be held Monday\, April 15\, 2024 at 4:15p.m.
URL:https://lancastervillageny.gov/event/annual-budget-meeting/
LOCATION:Municipal Building\, 5423 Broadway\, Lancaster\, NY\, 14086\, United States
CATEGORIES:Board Meeting
END:VEVENT
BEGIN:VEVENT
DTSTART;TZID=America/New_York:20240415T171500
DTEND;TZID=America/New_York:20240415T181500
DTSTAMP:20260421T234138
CREATED:20240415T150952Z
LAST-MODIFIED:20240415T150952Z
UID:10001390-1713201300-1713204900@lancastervillageny.gov
SUMMARY:Annual Organizational Meeting
DESCRIPTION:The Annual Organizational Meeting will be held Monday\, April 15\, 2024 at 5:15p.m.
URL:https://lancastervillageny.gov/event/annual-organizational-meeting-2/
LOCATION:Municipal Building\, 5423 Broadway\, Lancaster\, NY\, 14086\, United States
CATEGORIES:Board Meeting
END:VEVENT
BEGIN:VEVENT
DTSTART;TZID=America/New_York:20240422T190000
DTEND;TZID=America/New_York:20240422T210000
DTSTAMP:20260421T234138
CREATED:20221219T153437Z
LAST-MODIFIED:20221219T153438Z
UID:10000885-1713812400-1713819600@lancastervillageny.gov
SUMMARY:Village Board Meeting
DESCRIPTION:
URL:https://lancastervillageny.gov/event/village-board-meeting-2-2-2/2024-04-22/
LOCATION:Municipal Building\, 5423 Broadway\, Lancaster\, NY\, 14086\, United States
CATEGORIES:Board Meeting
END:VEVENT
END:VCALENDAR