BEGIN:VCALENDAR
VERSION:2.0
PRODID:-//Village of Lancaster, NY - ECPv6.15.17.1//NONSGML v1.0//EN
CALSCALE:GREGORIAN
METHOD:PUBLISH
X-ORIGINAL-URL:https://lancastervillageny.gov
X-WR-CALDESC:Events for Village of Lancaster, NY
REFRESH-INTERVAL;VALUE=DURATION:PT1H
X-Robots-Tag:noindex
X-PUBLISHED-TTL:PT1H
BEGIN:VTIMEZONE
TZID:America/New_York
BEGIN:DAYLIGHT
TZOFFSETFROM:-0500
TZOFFSETTO:-0400
TZNAME:EDT
DTSTART:20230312T070000
END:DAYLIGHT
BEGIN:STANDARD
TZOFFSETFROM:-0400
TZOFFSETTO:-0500
TZNAME:EST
DTSTART:20231105T060000
END:STANDARD
BEGIN:DAYLIGHT
TZOFFSETFROM:-0500
TZOFFSETTO:-0400
TZNAME:EDT
DTSTART:20240310T070000
END:DAYLIGHT
BEGIN:STANDARD
TZOFFSETFROM:-0400
TZOFFSETTO:-0500
TZNAME:EST
DTSTART:20241103T060000
END:STANDARD
BEGIN:DAYLIGHT
TZOFFSETFROM:-0500
TZOFFSETTO:-0400
TZNAME:EDT
DTSTART:20250309T070000
END:DAYLIGHT
BEGIN:STANDARD
TZOFFSETFROM:-0400
TZOFFSETTO:-0500
TZNAME:EST
DTSTART:20251102T060000
END:STANDARD
END:VTIMEZONE
BEGIN:VEVENT
DTSTART;TZID=America/New_York:20240513T190000
DTEND;TZID=America/New_York:20240513T210000
DTSTAMP:20260420T232220
CREATED:20230926T175742Z
LAST-MODIFIED:20230926T175744Z
UID:10001259-1715626800-1715634000@lancastervillageny.gov
SUMMARY:Village Board Meeting
DESCRIPTION:
URL:https://lancastervillageny.gov/event/village-board-meeting-3-2-2/2024-05-13/
LOCATION:Municipal Building\, 5423 Broadway\, Lancaster\, NY\, 14086\, United States
CATEGORIES:Board Meeting
END:VEVENT
BEGIN:VEVENT
DTSTART;TZID=America/New_York:20240527T190000
DTEND;TZID=America/New_York:20240527T210000
DTSTAMP:20260420T232220
CREATED:20240509T181629Z
LAST-MODIFIED:20240523T124911Z
UID:10000886-1716836400-1716843600@lancastervillageny.gov
SUMMARY:Village Board Meeting- Rescheduled
DESCRIPTION:This Village Board meeting has been rescheduled to Tuesday\, May 28\, 2024 due to Monday being Memorial Day.
URL:https://lancastervillageny.gov/event/village-board-meeting-2-2-2-2/
LOCATION:Municipal Building\, 5423 Broadway\, Lancaster\, NY\, 14086\, United States
CATEGORIES:Board Meeting
END:VEVENT
BEGIN:VEVENT
DTSTART;TZID=America/New_York:20240528T180000
DTEND;TZID=America/New_York:20240528T200000
DTSTAMP:20260420T232220
CREATED:20240523T124814Z
LAST-MODIFIED:20240523T124814Z
UID:10001395-1716919200-1716926400@lancastervillageny.gov
SUMMARY:Village Board Meeting
DESCRIPTION:The May 27th Village work session and Village board meeting have been moved to Tuesday\, May 28\, 2024 due to the holiday.
URL:https://lancastervillageny.gov/event/village-board-meeting-4/
LOCATION:Municipal Building\, 5423 Broadway\, Lancaster\, NY\, 14086\, United States
CATEGORIES:Board Meeting
END:VEVENT
END:VCALENDAR