BEGIN:VCALENDAR
VERSION:2.0
PRODID:-//Village of Lancaster, NY - ECPv6.15.17.1//NONSGML v1.0//EN
CALSCALE:GREGORIAN
METHOD:PUBLISH
X-ORIGINAL-URL:https://lancastervillageny.gov
X-WR-CALDESC:Events for Village of Lancaster, NY
REFRESH-INTERVAL;VALUE=DURATION:PT1H
X-Robots-Tag:noindex
X-PUBLISHED-TTL:PT1H
BEGIN:VTIMEZONE
TZID:America/New_York
BEGIN:DAYLIGHT
TZOFFSETFROM:-0500
TZOFFSETTO:-0400
TZNAME:EDT
DTSTART:20230312T070000
END:DAYLIGHT
BEGIN:STANDARD
TZOFFSETFROM:-0400
TZOFFSETTO:-0500
TZNAME:EST
DTSTART:20231105T060000
END:STANDARD
BEGIN:DAYLIGHT
TZOFFSETFROM:-0500
TZOFFSETTO:-0400
TZNAME:EDT
DTSTART:20240310T070000
END:DAYLIGHT
BEGIN:STANDARD
TZOFFSETFROM:-0400
TZOFFSETTO:-0500
TZNAME:EST
DTSTART:20241103T060000
END:STANDARD
BEGIN:DAYLIGHT
TZOFFSETFROM:-0500
TZOFFSETTO:-0400
TZNAME:EDT
DTSTART:20250309T070000
END:DAYLIGHT
BEGIN:STANDARD
TZOFFSETFROM:-0400
TZOFFSETTO:-0500
TZNAME:EST
DTSTART:20251102T060000
END:STANDARD
BEGIN:DAYLIGHT
TZOFFSETFROM:-0500
TZOFFSETTO:-0400
TZNAME:EDT
DTSTART:20260308T070000
END:DAYLIGHT
BEGIN:STANDARD
TZOFFSETFROM:-0400
TZOFFSETTO:-0500
TZNAME:EST
DTSTART:20261101T060000
END:STANDARD
END:VTIMEZONE
BEGIN:VEVENT
DTSTART;TZID=America/New_York:20240528T180000
DTEND;TZID=America/New_York:20240528T200000
DTSTAMP:20260422T190524
CREATED:20240523T124814Z
LAST-MODIFIED:20240523T124814Z
UID:10001395-1716919200-1716926400@lancastervillageny.gov
SUMMARY:Village Board Meeting
DESCRIPTION:The May 27th Village work session and Village board meeting have been moved to Tuesday\, May 28\, 2024 due to the holiday.
URL:https://lancastervillageny.gov/event/village-board-meeting-4/
LOCATION:Municipal Building\, 5423 Broadway\, Lancaster\, NY\, 14086\, United States
CATEGORIES:Board Meeting
END:VEVENT
BEGIN:VEVENT
DTSTART;TZID=America/New_York:20240610T190000
DTEND;TZID=America/New_York:20240610T210000
DTSTAMP:20260422T190524
CREATED:20230926T175742Z
LAST-MODIFIED:20230926T175744Z
UID:10001260-1718046000-1718053200@lancastervillageny.gov
SUMMARY:Village Board Meeting
DESCRIPTION:
URL:https://lancastervillageny.gov/event/village-board-meeting-3-2-2/2024-06-10/
LOCATION:Municipal Building\, 5423 Broadway\, Lancaster\, NY\, 14086\, United States
CATEGORIES:Board Meeting
END:VEVENT
BEGIN:VEVENT
DTSTART;TZID=America/New_York:20240624T190000
DTEND;TZID=America/New_York:20240624T210000
DTSTAMP:20260422T190524
CREATED:20221219T153437Z
LAST-MODIFIED:20221219T153438Z
UID:10000887-1719255600-1719262800@lancastervillageny.gov
SUMMARY:Village Board Meeting
DESCRIPTION:
URL:https://lancastervillageny.gov/event/village-board-meeting-2-2-2/2024-06-24/
LOCATION:Municipal Building\, 5423 Broadway\, Lancaster\, NY\, 14086\, United States
CATEGORIES:Board Meeting
END:VEVENT
BEGIN:VEVENT
DTSTART;TZID=America/New_York:20240708T190000
DTEND;TZID=America/New_York:20240708T210000
DTSTAMP:20260422T190524
CREATED:20230926T175742Z
LAST-MODIFIED:20230926T175744Z
UID:10001261-1720465200-1720472400@lancastervillageny.gov
SUMMARY:Village Board Meeting
DESCRIPTION:
URL:https://lancastervillageny.gov/event/village-board-meeting-3-2-2/2024-07-08/
LOCATION:Municipal Building\, 5423 Broadway\, Lancaster\, NY\, 14086\, United States
CATEGORIES:Board Meeting
END:VEVENT
BEGIN:VEVENT
DTSTART;TZID=America/New_York:20240722T190000
DTEND;TZID=America/New_York:20240722T210000
DTSTAMP:20260422T190524
CREATED:20221219T153437Z
LAST-MODIFIED:20221219T153438Z
UID:10000888-1721674800-1721682000@lancastervillageny.gov
SUMMARY:Village Board Meeting
DESCRIPTION:
URL:https://lancastervillageny.gov/event/village-board-meeting-2-2-2/2024-07-22/
LOCATION:Municipal Building\, 5423 Broadway\, Lancaster\, NY\, 14086\, United States
CATEGORIES:Board Meeting
END:VEVENT
BEGIN:VEVENT
DTSTART;TZID=America/New_York:20240812T190000
DTEND;TZID=America/New_York:20240812T210000
DTSTAMP:20260422T190524
CREATED:20230926T175742Z
LAST-MODIFIED:20230926T175744Z
UID:10001262-1723489200-1723496400@lancastervillageny.gov
SUMMARY:Village Board Meeting
DESCRIPTION:
URL:https://lancastervillageny.gov/event/village-board-meeting-3-2-2/2024-08-12/
LOCATION:Municipal Building\, 5423 Broadway\, Lancaster\, NY\, 14086\, United States
CATEGORIES:Board Meeting
END:VEVENT
BEGIN:VEVENT
DTSTART;TZID=America/New_York:20240826T190000
DTEND;TZID=America/New_York:20240826T210000
DTSTAMP:20260422T190524
CREATED:20221219T153437Z
LAST-MODIFIED:20221219T153438Z
UID:10000889-1724698800-1724706000@lancastervillageny.gov
SUMMARY:Village Board Meeting
DESCRIPTION:
URL:https://lancastervillageny.gov/event/village-board-meeting-2-2-2/2024-08-26/
LOCATION:Municipal Building\, 5423 Broadway\, Lancaster\, NY\, 14086\, United States
CATEGORIES:Board Meeting
END:VEVENT
BEGIN:VEVENT
DTSTART;TZID=America/New_York:20240909T190000
DTEND;TZID=America/New_York:20240909T210000
DTSTAMP:20260422T190524
CREATED:20230926T175742Z
LAST-MODIFIED:20230926T175744Z
UID:10001263-1725908400-1725915600@lancastervillageny.gov
SUMMARY:Village Board Meeting
DESCRIPTION:
URL:https://lancastervillageny.gov/event/village-board-meeting-3-2-2/2024-09-09/
LOCATION:Municipal Building\, 5423 Broadway\, Lancaster\, NY\, 14086\, United States
CATEGORIES:Board Meeting
END:VEVENT
BEGIN:VEVENT
DTSTART;TZID=America/New_York:20240915T140000
DTEND;TZID=America/New_York:20240915T150000
DTSTAMP:20260422T190524
CREATED:20240709T155857Z
LAST-MODIFIED:20240709T155857Z
UID:10001405-1726408800-1726412400@lancastervillageny.gov
SUMMARY:175th Anniversary Speaker Series: Ryan Duffy
DESCRIPTION:Presented by the Lancaster Historical Society\, join Ryan Duffy from the Holland Land Office Musuem for a presentation on the Holland Land Company in Western New York and Lancaster. \nThis event will be held at the Lancaster Senior Citizens Center\, 100 Oxford Ave. Lancaster\, NY 14086
URL:https://lancastervillageny.gov/event/175th-anniversary-speaker-series-ryan-duffy/
LOCATION:Lancaster Senior Citizens Center\, 100 Oxford Ave\, Lancaster\, NY\, 14086
CATEGORIES:175th Anniversary,Board Meeting
END:VEVENT
BEGIN:VEVENT
DTSTART;TZID=America/New_York:20240923T190000
DTEND;TZID=America/New_York:20240923T210000
DTSTAMP:20260422T190524
CREATED:20221219T153437Z
LAST-MODIFIED:20221219T153438Z
UID:10000890-1727118000-1727125200@lancastervillageny.gov
SUMMARY:Village Board Meeting
DESCRIPTION:
URL:https://lancastervillageny.gov/event/village-board-meeting-2-2-2/2024-09-23/
LOCATION:Municipal Building\, 5423 Broadway\, Lancaster\, NY\, 14086\, United States
CATEGORIES:Board Meeting
END:VEVENT
BEGIN:VEVENT
DTSTART;TZID=America/New_York:20240928T083000
DTEND;TZID=America/New_York:20240928T093000
DTSTAMP:20260422T190524
CREATED:20240924T164216Z
LAST-MODIFIED:20240924T164216Z
UID:10001411-1727512200-1727515800@lancastervillageny.gov
SUMMARY:Village Board - Special Meeting - 9/28/2024
DESCRIPTION:The Lancaster Village Board will be meeting on Saturday\, September 28\, 2024\, at 8:30 AM in the Lancaster Municipal Building\, located at 5423 Broadway. They will be meeting to discuss renewal of the agreement with the Town of Lancaster\, related to Town Building & Zoning Department Services including code enforcement services.
URL:https://lancastervillageny.gov/event/village-board-special-meeting-9-28-2024/
LOCATION:Municipal Building\, 5423 Broadway\, Lancaster\, NY\, 14086\, United States
CATEGORIES:Board Meeting
END:VEVENT
BEGIN:VEVENT
DTSTART;TZID=America/New_York:20241014T190000
DTEND;TZID=America/New_York:20241014T210000
DTSTAMP:20260422T190524
CREATED:20241003T175612Z
LAST-MODIFIED:20241003T180024Z
UID:10001264-1728932400-1728939600@lancastervillageny.gov
SUMMARY:Village Board Meeting-Rescheduled to 10/7/2024
DESCRIPTION:This meeting has been rescheduled for October 7\, 2024 due to the holiday.
URL:https://lancastervillageny.gov/event/village-board-meeting-3-2-2-2/
LOCATION:Municipal Building\, 5423 Broadway\, Lancaster\, NY\, 14086\, United States
CATEGORIES:Board Meeting
END:VEVENT
BEGIN:VEVENT
DTSTART;TZID=America/New_York:20241028T190000
DTEND;TZID=America/New_York:20241028T210000
DTSTAMP:20260422T190524
CREATED:20221219T153437Z
LAST-MODIFIED:20221219T153438Z
UID:10000891-1730142000-1730149200@lancastervillageny.gov
SUMMARY:Village Board Meeting
DESCRIPTION:
URL:https://lancastervillageny.gov/event/village-board-meeting-2-2-2/2024-10-28/
LOCATION:Municipal Building\, 5423 Broadway\, Lancaster\, NY\, 14086\, United States
CATEGORIES:Board Meeting
END:VEVENT
BEGIN:VEVENT
DTSTART;TZID=America/New_York:20241111T190000
DTEND;TZID=America/New_York:20241111T210000
DTSTAMP:20260422T190524
CREATED:20230926T175742Z
LAST-MODIFIED:20230926T175744Z
UID:10001456-1731351600-1731358800@lancastervillageny.gov
SUMMARY:Village Board Meeting
DESCRIPTION:
URL:https://lancastervillageny.gov/event/village-board-meeting-3-2-2/2024-11-11/
LOCATION:Municipal Building\, 5423 Broadway\, Lancaster\, NY\, 14086\, United States
CATEGORIES:Board Meeting
END:VEVENT
BEGIN:VEVENT
DTSTART;TZID=America/New_York:20241111T190000
DTEND;TZID=America/New_York:20241111T210000
DTSTAMP:20260422T190524
CREATED:20241111T185707Z
LAST-MODIFIED:20241111T185708Z
UID:10001265-1731351600-1731358800@lancastervillageny.gov
SUMMARY:Village Board Meeting- Cancelled
DESCRIPTION:Due to Veteran’s Day\, this board meeting has been cancelled. The following Board Meeting will be November 25th
URL:https://lancastervillageny.gov/event/village-board-meeting-3-2-2-3/
LOCATION:Municipal Building\, 5423 Broadway\, Lancaster\, NY\, 14086\, United States
CATEGORIES:Board Meeting
END:VEVENT
BEGIN:VEVENT
DTSTART;TZID=America/New_York:20241125T190000
DTEND;TZID=America/New_York:20241125T210000
DTSTAMP:20260422T190524
CREATED:20221219T153437Z
LAST-MODIFIED:20221219T153438Z
UID:10000892-1732561200-1732568400@lancastervillageny.gov
SUMMARY:Village Board Meeting
DESCRIPTION:
URL:https://lancastervillageny.gov/event/village-board-meeting-2-2-2/2024-11-25/
LOCATION:Municipal Building\, 5423 Broadway\, Lancaster\, NY\, 14086\, United States
CATEGORIES:Board Meeting
END:VEVENT
BEGIN:VEVENT
DTSTART;TZID=America/New_York:20241209T190000
DTEND;TZID=America/New_York:20241209T210000
DTSTAMP:20260422T190524
CREATED:20230926T175742Z
LAST-MODIFIED:20230926T175744Z
UID:10001266-1733770800-1733778000@lancastervillageny.gov
SUMMARY:Village Board Meeting
DESCRIPTION:
URL:https://lancastervillageny.gov/event/village-board-meeting-3-2-2/2024-12-09/
LOCATION:Municipal Building\, 5423 Broadway\, Lancaster\, NY\, 14086\, United States
CATEGORIES:Board Meeting
END:VEVENT
BEGIN:VEVENT
DTSTART;TZID=America/New_York:20241223T190000
DTEND;TZID=America/New_York:20241223T210000
DTSTAMP:20260422T190524
CREATED:20221219T153437Z
LAST-MODIFIED:20221219T153438Z
UID:10000893-1734980400-1734987600@lancastervillageny.gov
SUMMARY:Village Board Meeting
DESCRIPTION:
URL:https://lancastervillageny.gov/event/village-board-meeting-2-2-2/2024-12-23/
LOCATION:Municipal Building\, 5423 Broadway\, Lancaster\, NY\, 14086\, United States
CATEGORIES:Board Meeting
END:VEVENT
BEGIN:VEVENT
DTSTART;TZID=America/New_York:20250113T190000
DTEND;TZID=America/New_York:20250113T210000
DTSTAMP:20260422T190524
CREATED:20230926T175742Z
LAST-MODIFIED:20230926T175744Z
UID:10001267-1736794800-1736802000@lancastervillageny.gov
SUMMARY:Village Board Meeting
DESCRIPTION:
URL:https://lancastervillageny.gov/event/village-board-meeting-3-2-2/2025-01-13/
LOCATION:Municipal Building\, 5423 Broadway\, Lancaster\, NY\, 14086\, United States
CATEGORIES:Board Meeting
END:VEVENT
BEGIN:VEVENT
DTSTART;TZID=America/New_York:20250127T190000
DTEND;TZID=America/New_York:20250127T210000
DTSTAMP:20260422T190524
CREATED:20221219T153437Z
LAST-MODIFIED:20221219T153438Z
UID:10000894-1738004400-1738011600@lancastervillageny.gov
SUMMARY:Village Board Meeting
DESCRIPTION:
URL:https://lancastervillageny.gov/event/village-board-meeting-2-2-2/2025-01-27/
LOCATION:Municipal Building\, 5423 Broadway\, Lancaster\, NY\, 14086\, United States
CATEGORIES:Board Meeting
END:VEVENT
BEGIN:VEVENT
DTSTART;TZID=America/New_York:20250210T190000
DTEND;TZID=America/New_York:20250210T210000
DTSTAMP:20260422T190524
CREATED:20230926T175742Z
LAST-MODIFIED:20230926T175744Z
UID:10001268-1739214000-1739221200@lancastervillageny.gov
SUMMARY:Village Board Meeting
DESCRIPTION:
URL:https://lancastervillageny.gov/event/village-board-meeting-3-2-2/2025-02-10/
LOCATION:Municipal Building\, 5423 Broadway\, Lancaster\, NY\, 14086\, United States
CATEGORIES:Board Meeting
END:VEVENT
BEGIN:VEVENT
DTSTART;TZID=America/New_York:20250224T190000
DTEND;TZID=America/New_York:20250224T210000
DTSTAMP:20260422T190524
CREATED:20221219T153437Z
LAST-MODIFIED:20221219T153438Z
UID:10000895-1740423600-1740430800@lancastervillageny.gov
SUMMARY:Village Board Meeting
DESCRIPTION:
URL:https://lancastervillageny.gov/event/village-board-meeting-2-2-2/2025-02-24/
LOCATION:Municipal Building\, 5423 Broadway\, Lancaster\, NY\, 14086\, United States
CATEGORIES:Board Meeting
END:VEVENT
BEGIN:VEVENT
DTSTART;TZID=America/New_York:20250310T190000
DTEND;TZID=America/New_York:20250310T210000
DTSTAMP:20260422T190524
CREATED:20230926T175742Z
LAST-MODIFIED:20230926T175744Z
UID:10001269-1741633200-1741640400@lancastervillageny.gov
SUMMARY:Village Board Meeting
DESCRIPTION:
URL:https://lancastervillageny.gov/event/village-board-meeting-3-2-2/2025-03-10/
LOCATION:Municipal Building\, 5423 Broadway\, Lancaster\, NY\, 14086\, United States
CATEGORIES:Board Meeting
END:VEVENT
BEGIN:VEVENT
DTSTART;TZID=America/New_York:20250324T190000
DTEND;TZID=America/New_York:20250324T210000
DTSTAMP:20260422T190524
CREATED:20221219T153437Z
LAST-MODIFIED:20221219T153438Z
UID:10000896-1742842800-1742850000@lancastervillageny.gov
SUMMARY:Village Board Meeting
DESCRIPTION:
URL:https://lancastervillageny.gov/event/village-board-meeting-2-2-2/2025-03-24/
LOCATION:Municipal Building\, 5423 Broadway\, Lancaster\, NY\, 14086\, United States
CATEGORIES:Board Meeting
END:VEVENT
BEGIN:VEVENT
DTSTART;TZID=America/New_York:20250407T170000
DTEND;TZID=America/New_York:20250407T180000
DTSTAMP:20260422T190524
CREATED:20250404T151255Z
LAST-MODIFIED:20250404T151255Z
UID:10001443-1744045200-1744048800@lancastervillageny.gov
SUMMARY:Organizational Meeting
DESCRIPTION:
URL:https://lancastervillageny.gov/event/organizational-meeting/
LOCATION:Municipal Building\, 5423 Broadway\, Lancaster\, NY\, 14086\, United States
CATEGORIES:Board Meeting
END:VEVENT
BEGIN:VEVENT
DTSTART;TZID=America/New_York:20250414T190000
DTEND;TZID=America/New_York:20250414T210000
DTSTAMP:20260422T190524
CREATED:20230926T175742Z
LAST-MODIFIED:20230926T175744Z
UID:10001270-1744657200-1744664400@lancastervillageny.gov
SUMMARY:Village Board Meeting
DESCRIPTION:
URL:https://lancastervillageny.gov/event/village-board-meeting-3-2-2/2025-04-14/
LOCATION:Municipal Building\, 5423 Broadway\, Lancaster\, NY\, 14086\, United States
CATEGORIES:Board Meeting
END:VEVENT
BEGIN:VEVENT
DTSTART;TZID=America/New_York:20250428T190000
DTEND;TZID=America/New_York:20250428T210000
DTSTAMP:20260422T190524
CREATED:20221219T153437Z
LAST-MODIFIED:20221219T153438Z
UID:10000897-1745866800-1745874000@lancastervillageny.gov
SUMMARY:Village Board Meeting
DESCRIPTION:
URL:https://lancastervillageny.gov/event/village-board-meeting-2-2-2/2025-04-28/
LOCATION:Municipal Building\, 5423 Broadway\, Lancaster\, NY\, 14086\, United States
CATEGORIES:Board Meeting
END:VEVENT
BEGIN:VEVENT
DTSTART;TZID=America/New_York:20250512T190000
DTEND;TZID=America/New_York:20250512T210000
DTSTAMP:20260422T190524
CREATED:20230926T175742Z
LAST-MODIFIED:20230926T175744Z
UID:10001271-1747076400-1747083600@lancastervillageny.gov
SUMMARY:Village Board Meeting
DESCRIPTION:
URL:https://lancastervillageny.gov/event/village-board-meeting-3-2-2/2025-05-12/
LOCATION:Municipal Building\, 5423 Broadway\, Lancaster\, NY\, 14086\, United States
CATEGORIES:Board Meeting
END:VEVENT
BEGIN:VEVENT
DTSTART;TZID=America/New_York:20250526T190000
DTEND;TZID=America/New_York:20250526T210000
DTSTAMP:20260422T190524
CREATED:20221219T153437Z
LAST-MODIFIED:20221219T153438Z
UID:10000898-1748286000-1748293200@lancastervillageny.gov
SUMMARY:Village Board Meeting
DESCRIPTION:
URL:https://lancastervillageny.gov/event/village-board-meeting-2-2-2/2025-05-26/
LOCATION:Municipal Building\, 5423 Broadway\, Lancaster\, NY\, 14086\, United States
CATEGORIES:Board Meeting
END:VEVENT
BEGIN:VEVENT
DTSTART;TZID=America/New_York:20250527T180000
DTEND;TZID=America/New_York:20250527T190000
DTSTAMP:20260422T190524
CREATED:20250522T134143Z
LAST-MODIFIED:20250522T134143Z
UID:10001447-1748368800-1748372400@lancastervillageny.gov
SUMMARY:Events Work Session
DESCRIPTION:
URL:https://lancastervillageny.gov/event/events-work-session/
LOCATION:Municipal Building\, 5423 Broadway\, Lancaster\, NY\, 14086\, United States
CATEGORIES:Board Meeting
END:VEVENT
END:VCALENDAR