BEGIN:VCALENDAR
VERSION:2.0
PRODID:-//Village of Lancaster, NY - ECPv6.15.17.1//NONSGML v1.0//EN
CALSCALE:GREGORIAN
METHOD:PUBLISH
X-ORIGINAL-URL:https://lancastervillageny.gov
X-WR-CALDESC:Events for Village of Lancaster, NY
REFRESH-INTERVAL;VALUE=DURATION:PT1H
X-Robots-Tag:noindex
X-PUBLISHED-TTL:PT1H
BEGIN:VTIMEZONE
TZID:America/New_York
BEGIN:DAYLIGHT
TZOFFSETFROM:-0500
TZOFFSETTO:-0400
TZNAME:EDT
DTSTART:20210314T070000
END:DAYLIGHT
BEGIN:STANDARD
TZOFFSETFROM:-0400
TZOFFSETTO:-0500
TZNAME:EST
DTSTART:20211107T060000
END:STANDARD
BEGIN:DAYLIGHT
TZOFFSETFROM:-0500
TZOFFSETTO:-0400
TZNAME:EDT
DTSTART:20220313T070000
END:DAYLIGHT
BEGIN:STANDARD
TZOFFSETFROM:-0400
TZOFFSETTO:-0500
TZNAME:EST
DTSTART:20221106T060000
END:STANDARD
BEGIN:DAYLIGHT
TZOFFSETFROM:-0500
TZOFFSETTO:-0400
TZNAME:EDT
DTSTART:20230312T070000
END:DAYLIGHT
BEGIN:STANDARD
TZOFFSETFROM:-0400
TZOFFSETTO:-0500
TZNAME:EST
DTSTART:20231105T060000
END:STANDARD
END:VTIMEZONE
BEGIN:VEVENT
DTSTART;TZID=America/New_York:20220924T060000
DTEND;TZID=America/New_York:20220924T120000
DTSTAMP:20260423T094930
CREATED:20220818T223033Z
LAST-MODIFIED:20220914T203139Z
UID:10000005-1663999200-1664020800@lancastervillageny.gov
SUMMARY:Fall Fest
DESCRIPTION:Fall Fest Product Vendor Form\n			\n			\n				\n				\n				\n				\n			\n				\n				\n				\n				\n				\n				\n				\n				\n				\n				\n				Event: Fall Fest 9/24 \n Location: Central Business District \nTime: 10 am – 4 pm \nCost: $50 \nSet Up: 9 am – 10 am \n			\n			\n				\n				\n				\n				\n				\n				\n				\n				\n				\n				Your space will not be reserved until all your required paperwork is received by the Events Director. Please mail in your check to: \nMunicipal Building5423 BroadwayLancaster\, NY 14086 \n* It may take 24-48 hours to hear back from the Events Director* \n			\n			\n				\n				\n				\n				\n			\n				\n				\n				\n				\n				\n				\n				\n				\n				\n				\n				All participating vendors will need to provide the following: \n\nAll vendors are responsible for gathering all employees and volunteers to work their tent.\nVendors are responsible for all their own equipment and product\, as well as set up of their own area\, this includes\, but not limited to\, tent\, and seating.\nYou will be provided a 10×10 area to vend. The Village of Lancaster reserves the right to limit your designated area.\nYou agree to sell product that is not illegal or unsafe in nature.\nYou must participate for all of the days for duration of event.\nThe Village of Lancaster reserves the right to terminate this contract immediately if the above stipulations are not being met.\n\n			\n			\n				\n				\n				\n				\n				\n				\n				\n				\n				\n				Vending Items:\nIt is understood that the Village of Lancaster reserves the right to limit the duplication of any item that is already being sold. This is to protect our vendors as well as provide the attendees a greater variety of choices therefore enhancing your profits at the event. No electric will be provided.\n			\n			\n				\n				\n				\n				\n			\n				\n				\n				\n				\n				\n				\n				\n				\n				\n				\n				\n				\n				\n				\n					\n						\n				\n				\n				\n				\n				Business Name\n				\n			 \n\n				\n				\n				\n				\n				Contact Name\n				\n			 \n\n				\n				\n				\n				\n				Contact Phone\n				\n			 \n\n				\n				\n				\n				\n				Email\n				\n			 \n\n				\n				\n				\n				\n				Address\n				\n			 \n\n				\n				\n				\n				\n				Please list vending items:\n				\n			 \n\n						\n						\n							\n							Submit
URL:https://lancastervillageny.gov/event/fall-fest/
LOCATION:Central Business District
CATEGORIES:Family Events,Sanctioned Events
END:VEVENT
END:VCALENDAR