BEGIN:VCALENDAR
VERSION:2.0
PRODID:-//Village of Lancaster, NY - ECPv6.15.17.1//NONSGML v1.0//EN
CALSCALE:GREGORIAN
METHOD:PUBLISH
X-WR-CALNAME:Village of Lancaster, NY
X-ORIGINAL-URL:https://lancastervillageny.gov
X-WR-CALDESC:Events for Village of Lancaster, NY
REFRESH-INTERVAL;VALUE=DURATION:PT1H
X-Robots-Tag:noindex
X-PUBLISHED-TTL:PT1H
BEGIN:VTIMEZONE
TZID:America/New_York
BEGIN:DAYLIGHT
TZOFFSETFROM:-0500
TZOFFSETTO:-0400
TZNAME:EDT
DTSTART:20210314T070000
END:DAYLIGHT
BEGIN:STANDARD
TZOFFSETFROM:-0400
TZOFFSETTO:-0500
TZNAME:EST
DTSTART:20211107T060000
END:STANDARD
BEGIN:DAYLIGHT
TZOFFSETFROM:-0500
TZOFFSETTO:-0400
TZNAME:EDT
DTSTART:20220313T070000
END:DAYLIGHT
BEGIN:STANDARD
TZOFFSETFROM:-0400
TZOFFSETTO:-0500
TZNAME:EST
DTSTART:20221106T060000
END:STANDARD
BEGIN:DAYLIGHT
TZOFFSETFROM:-0500
TZOFFSETTO:-0400
TZNAME:EDT
DTSTART:20230312T070000
END:DAYLIGHT
BEGIN:STANDARD
TZOFFSETFROM:-0400
TZOFFSETTO:-0500
TZNAME:EST
DTSTART:20231105T060000
END:STANDARD
BEGIN:DAYLIGHT
TZOFFSETFROM:-0500
TZOFFSETTO:-0400
TZNAME:EDT
DTSTART:20240310T070000
END:DAYLIGHT
BEGIN:STANDARD
TZOFFSETFROM:-0400
TZOFFSETTO:-0500
TZNAME:EST
DTSTART:20241103T060000
END:STANDARD
END:VTIMEZONE
BEGIN:VEVENT
DTSTART;TZID=America/New_York:20221231T220000
DTEND;TZID=America/New_York:20230101T010000
DTSTAMP:20260422T120920
CREATED:20220920T174331Z
LAST-MODIFIED:20221227T162818Z
UID:10000736-1672524000-1672534800@lancastervillageny.gov
SUMMARY:New Year's Eve Ball Drop
DESCRIPTION: Come join us for our New Year’s Eve party! \nHere are some things you will be able to expect at this event:\n-DJ for entertainment\n-Free synthetic ice rink- bring your own skates!\n-Kettle corn vendor\n-Hot chocolate vendor.\n-Outdoor firepits\n-Ball drop at midnight\n-Fireworks at midnight by Skyworks.\n-Symposium Wine Bar will be hosting a special ticketed event (see their Facebook page for more details)\n-Both Lilly Belle Meads and Skoob’s will be open to the public for food and drinks until 1:00am\n\nThis event will come with some road closures\nStarting at 9:00pm:\n-The roundabout at W. Main St and Aurora St. will be closed.\n-W. Main St will be closed from the roundabout to the Save-a-lot entrance on W. Main St.\n– Aurora St. from St. John’s St. to the Aurora and Pleasant View roundabout. (The Aurora and Pleasant View roundabout will remain open for other traffic\, with the Aurora St. entrance/exit blocked.)\n\nCheck out our Facebook page for more information regarding this event: New Year’s Eve | Facebook
URL:https://lancastervillageny.gov/event/new-years-eve-ball-drop/
LOCATION:Central Business District
CATEGORIES:Adult Events,Family Events,Sanctioned Events
END:VEVENT
END:VCALENDAR