BEGIN:VCALENDAR
VERSION:2.0
PRODID:-//Village of Lancaster, NY - ECPv6.15.17.1//NONSGML v1.0//EN
CALSCALE:GREGORIAN
METHOD:PUBLISH
X-ORIGINAL-URL:https://lancastervillageny.gov
X-WR-CALDESC:Events for Village of Lancaster, NY
REFRESH-INTERVAL;VALUE=DURATION:PT1H
X-Robots-Tag:noindex
X-PUBLISHED-TTL:PT1H
BEGIN:VTIMEZONE
TZID:America/New_York
BEGIN:DAYLIGHT
TZOFFSETFROM:-0500
TZOFFSETTO:-0400
TZNAME:EDT
DTSTART:20220313T070000
END:DAYLIGHT
BEGIN:STANDARD
TZOFFSETFROM:-0400
TZOFFSETTO:-0500
TZNAME:EST
DTSTART:20221106T060000
END:STANDARD
BEGIN:DAYLIGHT
TZOFFSETFROM:-0500
TZOFFSETTO:-0400
TZNAME:EDT
DTSTART:20230312T070000
END:DAYLIGHT
BEGIN:STANDARD
TZOFFSETFROM:-0400
TZOFFSETTO:-0500
TZNAME:EST
DTSTART:20231105T060000
END:STANDARD
BEGIN:DAYLIGHT
TZOFFSETFROM:-0500
TZOFFSETTO:-0400
TZNAME:EDT
DTSTART:20240310T070000
END:DAYLIGHT
BEGIN:STANDARD
TZOFFSETFROM:-0400
TZOFFSETTO:-0500
TZNAME:EST
DTSTART:20241103T060000
END:STANDARD
END:VTIMEZONE
BEGIN:VEVENT
DTSTART;TZID=America/New_York:20230923T110000
DTEND;TZID=America/New_York:20230923T150000
DTSTAMP:20260422T202519
CREATED:20230919T142524Z
LAST-MODIFIED:20230919T142828Z
UID:10001194-1695466800-1695481200@lancastervillageny.gov
SUMMARY:Fall Fest 2023
DESCRIPTION:Come Join us for Fall Fest! \nEvents will be taking place at various locations in the Central Business District. 🍂🍁 \nThere will be parking available at the Clark St. Parking Lot\, behind the Municipal Building\, and street parking.\nThe parking lots next Twin City Music and The New York Store will be closed for the event. \nWe hope to see you there! 🍂🎃
URL:https://lancastervillageny.gov/event/fall-fest-2023-2/
LOCATION:Central Business District
CATEGORIES:Adult Events,Family Events,Sanctioned Events
END:VEVENT
END:VCALENDAR