BEGIN:VCALENDAR
VERSION:2.0
PRODID:-//Village of Lancaster, NY - ECPv6.15.17.1//NONSGML v1.0//EN
CALSCALE:GREGORIAN
METHOD:PUBLISH
X-WR-CALNAME:Village of Lancaster, NY
X-ORIGINAL-URL:https://lancastervillageny.gov
X-WR-CALDESC:Events for Village of Lancaster, NY
REFRESH-INTERVAL;VALUE=DURATION:PT1H
X-Robots-Tag:noindex
X-PUBLISHED-TTL:PT1H
BEGIN:VTIMEZONE
TZID:America/New_York
BEGIN:DAYLIGHT
TZOFFSETFROM:-0500
TZOFFSETTO:-0400
TZNAME:EDT
DTSTART:20220313T070000
END:DAYLIGHT
BEGIN:STANDARD
TZOFFSETFROM:-0400
TZOFFSETTO:-0500
TZNAME:EST
DTSTART:20221106T060000
END:STANDARD
BEGIN:DAYLIGHT
TZOFFSETFROM:-0500
TZOFFSETTO:-0400
TZNAME:EDT
DTSTART:20230312T070000
END:DAYLIGHT
BEGIN:STANDARD
TZOFFSETFROM:-0400
TZOFFSETTO:-0500
TZNAME:EST
DTSTART:20231105T060000
END:STANDARD
BEGIN:DAYLIGHT
TZOFFSETFROM:-0500
TZOFFSETTO:-0400
TZNAME:EDT
DTSTART:20240310T070000
END:DAYLIGHT
BEGIN:STANDARD
TZOFFSETFROM:-0400
TZOFFSETTO:-0500
TZNAME:EST
DTSTART:20241103T060000
END:STANDARD
END:VTIMEZONE
BEGIN:VEVENT
DTSTART;TZID=America/New_York:20231007T173000
DTEND;TZID=America/New_York:20231007T210000
DTSTAMP:20260422T121118
CREATED:20230927T180740Z
LAST-MODIFIED:20230927T180740Z
UID:10001312-1696699800-1696712400@lancastervillageny.gov
SUMMARY:Lancaster Thrills
DESCRIPTION:Lancaster Thrills Night!!\nW. Main Street in the Village of Lancaster\n– Face Painting\n– Hair Braiding & Tinsel\n– Ice Cream Truck\n– Haunted Experience\n– Chalk drawings\n– Kids Halloween themed Games\nStreet Performers Galore!\n– Fire Breathers\n– Belly Dancers\n– MAWNY Singing performance\n– Sword Balancing\n– Lyra & silk Performers\n– Be witched Buffalo\n– thriller Flash mob\n– Haunted Friends\n\nPlease see the Facebook event for more information:\nLancaster Thrills | Facebook
URL:https://lancastervillageny.gov/event/lancaster-thrills/
LOCATION:Central Business District
CATEGORIES:Adult Events,Family Events,Non-Sanctioned Events
END:VEVENT
BEGIN:VEVENT
DTSTART;TZID=America/New_York:20231008T140000
DTEND;TZID=America/New_York:20231008T170000
DTSTAMP:20260422T121118
CREATED:20230927T181851Z
LAST-MODIFIED:20230927T182330Z
UID:10001314-1696773600-1696784400@lancastervillageny.gov
SUMMARY:WNY Bikes Lancaster- Recreational Ride
DESCRIPTION:WNY Bikes will be hosting a free community bike ride in the Village of Lancaster. This 10-mile ride will start on West Main Street at 2:30 PM and follow a leisurely pace (10-12mph) through the village with a stop half-way through returning to West Main Street ~4:15.
URL:https://lancastervillageny.gov/event/wny-bikes-lancaster-recreational-ride/
CATEGORIES:Adult Events,Family Events,Non-Sanctioned Events
END:VEVENT
BEGIN:VEVENT
DTSTART;TZID=America/New_York:20231014T110000
DTEND;TZID=America/New_York:20231014T130000
DTSTAMP:20260422T121118
CREATED:20230927T182233Z
LAST-MODIFIED:20230927T182710Z
UID:10001315-1697281200-1697288400@lancastervillageny.gov
SUMMARY:6th Annual Woof N Treat
DESCRIPTION:-Trick-or-treating for dogs \n-Costume Contest \nTo be held at the parking lot at Central and Broadway as well as the sidewalks of Central and W. Main St.
URL:https://lancastervillageny.gov/event/6th-annual-woof-n-treat/
LOCATION:Central Business District
CATEGORIES:Adult Events,Family Events,Non-Sanctioned Events
END:VEVENT
BEGIN:VEVENT
DTSTART;TZID=America/New_York:20231028T100000
DTEND;TZID=America/New_York:20231028T233000
DTSTAMP:20260422T121118
CREATED:20230927T181620Z
LAST-MODIFIED:20230927T181620Z
UID:10001313-1698487200-1698535800@lancastervillageny.gov
SUMMARY:Halloween in the Village
DESCRIPTION:-Trick or Treat in the shops \n-Costume Contest \n-Movies at the Lancaster Opera House
URL:https://lancastervillageny.gov/event/halloween-in-the-village/
CATEGORIES:Adult Events,Family Events,Non-Sanctioned Events
END:VEVENT
END:VCALENDAR