BEGIN:VCALENDAR
VERSION:2.0
PRODID:-//Village of Lancaster, NY - ECPv6.15.17.1//NONSGML v1.0//EN
CALSCALE:GREGORIAN
METHOD:PUBLISH
X-ORIGINAL-URL:https://lancastervillageny.gov
X-WR-CALDESC:Events for Village of Lancaster, NY
REFRESH-INTERVAL;VALUE=DURATION:PT1H
X-Robots-Tag:noindex
X-PUBLISHED-TTL:PT1H
BEGIN:VTIMEZONE
TZID:America/New_York
BEGIN:DAYLIGHT
TZOFFSETFROM:-0500
TZOFFSETTO:-0400
TZNAME:EDT
DTSTART:20220313T070000
END:DAYLIGHT
BEGIN:STANDARD
TZOFFSETFROM:-0400
TZOFFSETTO:-0500
TZNAME:EST
DTSTART:20221106T060000
END:STANDARD
BEGIN:DAYLIGHT
TZOFFSETFROM:-0500
TZOFFSETTO:-0400
TZNAME:EDT
DTSTART:20230312T070000
END:DAYLIGHT
BEGIN:STANDARD
TZOFFSETFROM:-0400
TZOFFSETTO:-0500
TZNAME:EST
DTSTART:20231105T060000
END:STANDARD
BEGIN:DAYLIGHT
TZOFFSETFROM:-0500
TZOFFSETTO:-0400
TZNAME:EDT
DTSTART:20240310T070000
END:DAYLIGHT
BEGIN:STANDARD
TZOFFSETFROM:-0400
TZOFFSETTO:-0500
TZNAME:EST
DTSTART:20241103T060000
END:STANDARD
END:VTIMEZONE
BEGIN:VEVENT
DTSTART;TZID=America/New_York:20231104T090000
DTEND;TZID=America/New_York:20231104T150000
DTSTAMP:20260422T172033
CREATED:20231101T171820Z
LAST-MODIFIED:20231101T171820Z
UID:10001318-1699088400-1699110000@lancastervillageny.gov
SUMMARY:Fall Clean Up
DESCRIPTION:Lancaster Beautification will be doing their Fall clean up in the Central Business District of the Village of Lancaster this Saturday\, November 4\, 2023 from 9:00a.m. until 3:00p.m. \n“The more volunteers we have the quicker it will go. It is a great way to give back. We are all volunteers. We do it because we are givers. We do it because it’s great exercise. We do it to be good role models for the next generation. Whatever the reason…the end result is a beautifully landscaped village for all to enjoy  Meet us at the Broadway Central garden for assignment. Hope to see you there ” -Lancaster Beautification 
URL:https://lancastervillageny.gov/event/fall-clean-up/
LOCATION:Central Business District
CATEGORIES:Adult Events,Family Events,Non-Sanctioned Events
END:VEVENT
END:VCALENDAR