BEGIN:VCALENDAR
VERSION:2.0
PRODID:-//Village of Lancaster, NY - ECPv6.15.17.1//NONSGML v1.0//EN
CALSCALE:GREGORIAN
METHOD:PUBLISH
X-ORIGINAL-URL:https://lancastervillageny.gov
X-WR-CALDESC:Events for Village of Lancaster, NY
REFRESH-INTERVAL;VALUE=DURATION:PT1H
X-Robots-Tag:noindex
X-PUBLISHED-TTL:PT1H
BEGIN:VTIMEZONE
TZID:America/New_York
BEGIN:DAYLIGHT
TZOFFSETFROM:-0500
TZOFFSETTO:-0400
TZNAME:EDT
DTSTART:20230312T070000
END:DAYLIGHT
BEGIN:STANDARD
TZOFFSETFROM:-0400
TZOFFSETTO:-0500
TZNAME:EST
DTSTART:20231105T060000
END:STANDARD
BEGIN:DAYLIGHT
TZOFFSETFROM:-0500
TZOFFSETTO:-0400
TZNAME:EDT
DTSTART:20240310T070000
END:DAYLIGHT
BEGIN:STANDARD
TZOFFSETFROM:-0400
TZOFFSETTO:-0500
TZNAME:EST
DTSTART:20241103T060000
END:STANDARD
BEGIN:DAYLIGHT
TZOFFSETFROM:-0500
TZOFFSETTO:-0400
TZNAME:EDT
DTSTART:20250309T070000
END:DAYLIGHT
BEGIN:STANDARD
TZOFFSETFROM:-0400
TZOFFSETTO:-0500
TZNAME:EST
DTSTART:20251102T060000
END:STANDARD
END:VTIMEZONE
BEGIN:VEVENT
DTSTART;TZID=America/New_York:20240912T180000
DTEND;TZID=America/New_York:20240912T190000
DTSTAMP:20260420T012442
CREATED:20240709T155505Z
LAST-MODIFIED:20240709T155505Z
UID:10001404-1726164000-1726167600@lancastervillageny.gov
SUMMARY:175th Anniversary Speaker Series: Lancaster Fire Department
DESCRIPTION:Join the Lancaster Fire Department for a presentation on the history of the Department as part of the Village of Lancaster 175th Anniversary. \nPresentation will be held at the Greater Lancaster Museum of Firefighting\, 6 West Main St. Lancaster\, NY 14086
URL:https://lancastervillageny.gov/event/175th-anniversary-speaker-series-lancaster-fire-department/
CATEGORIES:175th Anniversary,Family Events
END:VEVENT
BEGIN:VEVENT
DTSTART;TZID=America/New_York:20240921T110000
DTEND;TZID=America/New_York:20240921T150000
DTSTAMP:20260420T012442
CREATED:20240904T184314Z
LAST-MODIFIED:20240904T184314Z
UID:10001407-1726916400-1726930800@lancastervillageny.gov
SUMMARY:Sustainability Expo at Fall Fest
DESCRIPTION:The Village of Lancaster is thrilled to announce the first-ever Sustainability Expo as part of our annual Fall Fest this September! Join us for a day of fun and eco-friendly education. Discover local organizations committed to sustainability and participate in activities for all ages. \n\nDate: September 21st\, 2024\nTime: 11:00am –3:00pm\nLocation: Downtown Village of Lancaster\n\nList of participating organizations: \n\nVillage of Lancaster Climate Smart Task Force\nErie County Climate Action\nCornell Cooperative Extension Erie County\nFarmer Pirates\nElectric Vehicle Assoc. of WNY\nWNY Energy Hub\n\nAdditionally\, to encourage community members to visit all organizations\, we’re introducing a “Sustainable Lancaster Passport” activity where attendees will collect stamps at each booth after engaging in an activity with the organization. Once the passport is completed\, participants can redeem it for a prize. \nWe look forward to seeing you there with your family\, friends\, and groups! \nFollow Village of Lancaster on Facebook for more updates!
URL:https://lancastervillageny.gov/event/sustainability-expo-at-fall-fest/
LOCATION:Central Business District
CATEGORIES:Family Events
END:VEVENT
END:VCALENDAR