BEGIN:VCALENDAR
VERSION:2.0
PRODID:-//Village of Lancaster, NY - ECPv6.15.17.1//NONSGML v1.0//EN
CALSCALE:GREGORIAN
METHOD:PUBLISH
X-ORIGINAL-URL:https://lancastervillageny.gov
X-WR-CALDESC:Events for Village of Lancaster, NY
REFRESH-INTERVAL;VALUE=DURATION:PT1H
X-Robots-Tag:noindex
X-PUBLISHED-TTL:PT1H
BEGIN:VTIMEZONE
TZID:America/New_York
BEGIN:DAYLIGHT
TZOFFSETFROM:-0500
TZOFFSETTO:-0400
TZNAME:EDT
DTSTART:20230312T070000
END:DAYLIGHT
BEGIN:STANDARD
TZOFFSETFROM:-0400
TZOFFSETTO:-0500
TZNAME:EST
DTSTART:20231105T060000
END:STANDARD
BEGIN:DAYLIGHT
TZOFFSETFROM:-0500
TZOFFSETTO:-0400
TZNAME:EDT
DTSTART:20240310T070000
END:DAYLIGHT
BEGIN:STANDARD
TZOFFSETFROM:-0400
TZOFFSETTO:-0500
TZNAME:EST
DTSTART:20241103T060000
END:STANDARD
BEGIN:DAYLIGHT
TZOFFSETFROM:-0500
TZOFFSETTO:-0400
TZNAME:EDT
DTSTART:20250309T070000
END:DAYLIGHT
BEGIN:STANDARD
TZOFFSETFROM:-0400
TZOFFSETTO:-0500
TZNAME:EST
DTSTART:20251102T060000
END:STANDARD
END:VTIMEZONE
BEGIN:VEVENT
DTSTART;TZID=America/New_York:20241101T100000
DTEND;TZID=America/New_York:20241101T140000
DTSTAMP:20260419T215023
CREATED:20241024T183725Z
LAST-MODIFIED:20241024T183725Z
UID:10001426-1730455200-1730469600@lancastervillageny.gov
SUMMARY:Beautification- Fall Clean Up
DESCRIPTION:Lancaster’s Beautification Committee will be hosting their final Fall Clean Up event in the downtown business district.\nFriday November 1st from 10-2 and Saturday November 2nd from 9-3
URL:https://lancastervillageny.gov/event/beautification-fall-clean-up/2024-11-01/
LOCATION:Central Business District
CATEGORIES:Adult Events,Family Events,Village Event
END:VEVENT
BEGIN:VEVENT
DTSTART;TZID=America/New_York:20241102T090000
DTEND;TZID=America/New_York:20241102T150000
DTSTAMP:20260419T215023
CREATED:20241024T183725Z
LAST-MODIFIED:20241024T183725Z
UID:10001427-1730538000-1730559600@lancastervillageny.gov
SUMMARY:Beautification- Fall Clean Up
DESCRIPTION:Lancaster’s Beautification Committee will be hosting their final Fall Clean Up event in the downtown business district.\nFriday November 1st from 10-2 and Saturday November 2nd from 9-3
URL:https://lancastervillageny.gov/event/beautification-fall-clean-up/2024-11-02/
LOCATION:Central Business District
CATEGORIES:Adult Events,Family Events,Village Event
END:VEVENT
BEGIN:VEVENT
DTSTART;TZID=America/New_York:20241107T180000
DTEND;TZID=America/New_York:20241107T190000
DTSTAMP:20260419T215023
CREATED:20241023T020314Z
LAST-MODIFIED:20241023T020314Z
UID:10001425-1731002400-1731006000@lancastervillageny.gov
SUMMARY:175th Speaker Series: Casimer "Casey" Bukowski
DESCRIPTION:
URL:https://lancastervillageny.gov/event/175th-speaker-series-casimer-casey-bukowski/
LOCATION:Municipal Building\, 5423 Broadway\, Lancaster\, NY\, 14086\, United States
CATEGORIES:175th Anniversary,Adult Events,Family Events
END:VEVENT
END:VCALENDAR