BEGIN:VCALENDAR
VERSION:2.0
PRODID:-//Village of Lancaster, NY - ECPv6.15.17.1//NONSGML v1.0//EN
CALSCALE:GREGORIAN
METHOD:PUBLISH
X-ORIGINAL-URL:https://lancastervillageny.gov
X-WR-CALDESC:Events for Village of Lancaster, NY
REFRESH-INTERVAL;VALUE=DURATION:PT1H
X-Robots-Tag:noindex
X-PUBLISHED-TTL:PT1H
BEGIN:VTIMEZONE
TZID:America/New_York
BEGIN:DAYLIGHT
TZOFFSETFROM:-0500
TZOFFSETTO:-0400
TZNAME:EDT
DTSTART:20260308T070000
END:DAYLIGHT
BEGIN:STANDARD
TZOFFSETFROM:-0400
TZOFFSETTO:-0500
TZNAME:EST
DTSTART:20261101T060000
END:STANDARD
BEGIN:DAYLIGHT
TZOFFSETFROM:-0500
TZOFFSETTO:-0400
TZNAME:EDT
DTSTART:20270314T070000
END:DAYLIGHT
BEGIN:STANDARD
TZOFFSETFROM:-0400
TZOFFSETTO:-0500
TZNAME:EST
DTSTART:20271107T060000
END:STANDARD
BEGIN:DAYLIGHT
TZOFFSETFROM:-0500
TZOFFSETTO:-0400
TZNAME:EDT
DTSTART:20280312T070000
END:DAYLIGHT
BEGIN:STANDARD
TZOFFSETFROM:-0400
TZOFFSETTO:-0500
TZNAME:EST
DTSTART:20281105T060000
END:STANDARD
END:VTIMEZONE
BEGIN:VEVENT
DTSTART;TZID=America/New_York:20270302T160000
DTEND;TZID=America/New_York:20270302T160000
DTSTAMP:20260421T202443
CREATED:20230117T195509Z
LAST-MODIFIED:20230117T195548Z
UID:10000976-1804003200-1804003200@lancastervillageny.gov
SUMMARY:Justice Court
DESCRIPTION:Night Court for the Village of Lancaster starting at 4:00pm
URL:https://lancastervillageny.gov/event/court-5/2027-03-02/
LOCATION:Municipal Building\, 5423 Broadway\, Lancaster\, NY\, 14086\, United States
CATEGORIES:Justice Court
END:VEVENT
BEGIN:VEVENT
DTSTART;TZID=America/New_York:20270309T090000
DTEND;TZID=America/New_York:20270309T090000
DTSTAMP:20260421T202443
CREATED:20230117T195623Z
LAST-MODIFIED:20230117T195624Z
UID:10001096-1804582800-1804582800@lancastervillageny.gov
SUMMARY:Justice Court
DESCRIPTION:Day Court for the Village of Lancaster starting at 9:00am
URL:https://lancastervillageny.gov/event/court-3-2/2027-03-09/
LOCATION:NY
CATEGORIES:Justice Court
END:VEVENT
BEGIN:VEVENT
DTSTART;TZID=America/New_York:20270316T160000
DTEND;TZID=America/New_York:20270316T160000
DTSTAMP:20260421T202443
CREATED:20221229T202456Z
LAST-MODIFIED:20230117T195401Z
UID:10001036-1805212800-1805212800@lancastervillageny.gov
SUMMARY:Justice Court
DESCRIPTION:Night Court for the Village of Lancaster starting at 4:00pm
URL:https://lancastervillageny.gov/event/court-2/2027-03-16/
LOCATION:Municipal Building\, 5423 Broadway\, Lancaster\, NY\, 14086\, United States
CATEGORIES:Justice Court
END:VEVENT
BEGIN:VEVENT
DTSTART;TZID=America/New_York:20270323T090000
DTEND;TZID=America/New_York:20270323T090000
DTSTAMP:20260421T202443
CREATED:20221229T202835Z
LAST-MODIFIED:20230117T195432Z
UID:10001156-1805792400-1805792400@lancastervillageny.gov
SUMMARY:Justice Court
DESCRIPTION:Day Court for the Village of Lancaster starting at 9:00am
URL:https://lancastervillageny.gov/event/court-4/2027-03-23/
LOCATION:Municipal Building\, 5423 Broadway\, Lancaster\, NY\, 14086\, United States
CATEGORIES:Justice Court
END:VEVENT
END:VCALENDAR