BEGIN:VCALENDAR
VERSION:2.0
PRODID:-//Village of Lancaster, NY - ECPv6.15.17.1//NONSGML v1.0//EN
CALSCALE:GREGORIAN
METHOD:PUBLISH
X-ORIGINAL-URL:https://lancastervillageny.gov
X-WR-CALDESC:Events for Village of Lancaster, NY
REFRESH-INTERVAL;VALUE=DURATION:PT1H
X-Robots-Tag:noindex
X-PUBLISHED-TTL:PT1H
BEGIN:VTIMEZONE
TZID:America/New_York
BEGIN:DAYLIGHT
TZOFFSETFROM:-0500
TZOFFSETTO:-0400
TZNAME:EDT
DTSTART:20220313T070000
END:DAYLIGHT
BEGIN:STANDARD
TZOFFSETFROM:-0400
TZOFFSETTO:-0500
TZNAME:EST
DTSTART:20221106T060000
END:STANDARD
BEGIN:DAYLIGHT
TZOFFSETFROM:-0500
TZOFFSETTO:-0400
TZNAME:EDT
DTSTART:20230312T070000
END:DAYLIGHT
BEGIN:STANDARD
TZOFFSETFROM:-0400
TZOFFSETTO:-0500
TZNAME:EST
DTSTART:20231105T060000
END:STANDARD
BEGIN:DAYLIGHT
TZOFFSETFROM:-0500
TZOFFSETTO:-0400
TZNAME:EDT
DTSTART:20240310T070000
END:DAYLIGHT
BEGIN:STANDARD
TZOFFSETFROM:-0400
TZOFFSETTO:-0500
TZNAME:EST
DTSTART:20241103T060000
END:STANDARD
END:VTIMEZONE
BEGIN:VEVENT
DTSTART;TZID=America/New_York:20230615T191000
DTEND;TZID=America/New_York:20230615T193000
DTSTAMP:20260421T064733
CREATED:20230614T150251Z
LAST-MODIFIED:20230614T150849Z
UID:10001186-1686856200-1686857400@lancastervillageny.gov
SUMMARY:Public Hearing - Skoob's Village Grille
DESCRIPTION:VILLAGE OF LANCASTER PLANNING COMMISSION \nNOTICE OF PUBLIC HEARING \nTO BE HELD WEDNESDAY\, JUNE 15\, 2023 \nPLEASE TAKE NOTICE; \nThe Village of Lancaster Planning Commission will hold a public hearing in the Council Chambers of the Lancaster Municipal Building\, 5423 Broadway\, Lancaster\, New York on Thursday\, June\, 15\, 2023 at  7:10 p.m. to consider an application by Skoob’s Village Grille located at 50 Central Ave. pursuant to Article XII of Chapter 350 (§ 350-92 et seq.) and § 350-64(C) of the Village Code for a temporary special use permit allowing the applicant to provide outdoor service of food and drink. The Village Code may be accessed online at the Village website https://lancastervillageny.gov. The application to be considered may be reviewed at the office of the Village Clerk in the Municipal Building. \nAt said hearing all persons so desiring shall have the opportunity to be heard. \nMichael E. Stegmeier \nVillage Clerk
URL:https://lancastervillageny.gov/event/public-hearing-skoobs-village-grille-2/
LOCATION:Municipal Building\, 5423 Broadway\, Lancaster\, NY\, 14086\, United States
CATEGORIES:Planning Commission,Public Hearing
END:VEVENT
BEGIN:VEVENT
DTSTART;TZID=America/New_York:20230615T191000
DTEND;TZID=America/New_York:20230615T193000
DTSTAMP:20260421T064733
CREATED:20230614T151001Z
LAST-MODIFIED:20230614T151001Z
UID:10001187-1686856200-1686857400@lancastervillageny.gov
SUMMARY:Public Hearing - Symposium Wine Bar
DESCRIPTION:VILLAGE OF LANCASTER PLANNING COMMISSION \nNOTICE OF PUBLIC HEARING \nTO BE HELD WEDNESDAY\, JUNE 15\, 2023 \nPLEASE TAKE NOTICE; \nThe Village of Lancaster Planning Commission will hold a public hearing in the Council Chambers of the Lancaster Municipal Building\, 5423 Broadway\, Lancaster\, New York on Thursday\, June\, 15\, 2023 at  7:10 p.m. to consider an application by Symposium Wine Bar located at 19 West Main St. Suite 400 pursuant to Article XII of Chapter 350 (§ 350-92 et seq.) and § 350-64(C) of the Village Code for a temporary special use permit allowing the applicant to provide outdoor service of food and drink. The Village Code may be accessed online at the Village website https://lancastervillageny.gov. The application to be considered may be reviewed at the office of the Village Clerk in the Municipal Building. \nAt said hearing all persons so desiring shall have the opportunity to be heard. \nMichael E. Stegmeier \nVillage Clerk
URL:https://lancastervillageny.gov/event/public-hearing-symposium-wine-bar/
LOCATION:Municipal Building\, 5423 Broadway\, Lancaster\, NY\, 14086\, United States
CATEGORIES:Planning Commission,Public Hearing
END:VEVENT
BEGIN:VEVENT
DTSTART;TZID=America/New_York:20230626T191500
DTEND;TZID=America/New_York:20230626T193000
DTSTAMP:20260421T064733
CREATED:20230614T145202Z
LAST-MODIFIED:20230614T145202Z
UID:10001185-1687806900-1687807800@lancastervillageny.gov
SUMMARY:Public Hearing - Skoob's Village Grille
DESCRIPTION:PLEASE TAKE NOTICE; That pursuant to Village Code §350-64.D.(2)\, the Village of Lancaster Board of Trustees will conduct a public hearing in the Council Chambers of the Lancaster Municipal Building\, 5423 Broadway\, Lancaster\, New York on Monday\, June 26\, 2023\, at 7:15 PM to consider the application of William and Lori Skubis for a permanent special use permit as to an outdoor patio at Skoob’s Village Grille\, 50 Central Avenue. The Village of Lancaster Planning Commission granted a temporary special use permit as to the requested use on April 21\, 2022. \nThe permanent special use permit application\, 2022 temporary special use application\, 2022 site plan\, and minutes of the April 21\, 2022 minutes of the Village of Lancaster Planning Commission may be reviewed at the Village of Lancaster website https://lancastervillageny.gov or during office hours at the office of the Village Clerk\, Lancaster Municipal Building\, 5423 Broadway\, Lancaster\, New York. \nAt said hearing\, all persons so desiring shall have the opportunity to be heard. \nMichael E. Stegmeier \nVillage Clerk \n  \nBelow are the documents mentioned in the Public Hearing Notice for review: \nPermanent Special Use Permit Application  \nTemporary Special Use Application 2022 \nSite Plan 2022 \nPlanning Commission Meeting Minutes 4-21-22 
URL:https://lancastervillageny.gov/event/public-hearing-skoobs-village-grille/
LOCATION:Municipal Building\, 5423 Broadway\, Lancaster\, NY\, 14086\, United States
CATEGORIES:Public Hearing
END:VEVENT
END:VCALENDAR