BEGIN:VCALENDAR
VERSION:2.0
PRODID:-//Village of Lancaster, NY - ECPv6.15.17.1//NONSGML v1.0//EN
CALSCALE:GREGORIAN
METHOD:PUBLISH
X-WR-CALNAME:Village of Lancaster, NY
X-ORIGINAL-URL:https://lancastervillageny.gov
X-WR-CALDESC:Events for Village of Lancaster, NY
REFRESH-INTERVAL;VALUE=DURATION:PT1H
X-Robots-Tag:noindex
X-PUBLISHED-TTL:PT1H
BEGIN:VTIMEZONE
TZID:America/New_York
BEGIN:DAYLIGHT
TZOFFSETFROM:-0500
TZOFFSETTO:-0400
TZNAME:EDT
DTSTART:20230312T070000
END:DAYLIGHT
BEGIN:STANDARD
TZOFFSETFROM:-0400
TZOFFSETTO:-0500
TZNAME:EST
DTSTART:20231105T060000
END:STANDARD
BEGIN:DAYLIGHT
TZOFFSETFROM:-0500
TZOFFSETTO:-0400
TZNAME:EDT
DTSTART:20240310T070000
END:DAYLIGHT
BEGIN:STANDARD
TZOFFSETFROM:-0400
TZOFFSETTO:-0500
TZNAME:EST
DTSTART:20241103T060000
END:STANDARD
BEGIN:DAYLIGHT
TZOFFSETFROM:-0500
TZOFFSETTO:-0400
TZNAME:EDT
DTSTART:20250309T070000
END:DAYLIGHT
BEGIN:STANDARD
TZOFFSETFROM:-0400
TZOFFSETTO:-0500
TZNAME:EST
DTSTART:20251102T060000
END:STANDARD
END:VTIMEZONE
BEGIN:VEVENT
DTSTART;TZID=America/New_York:20240122T191500
DTEND;TZID=America/New_York:20240122T200000
DTSTAMP:20260420T193912
CREATED:20240110T135431Z
LAST-MODIFIED:20240110T135431Z
UID:10001329-1705950900-1705953600@lancastervillageny.gov
SUMMARY:Notice of Two Public Hearings
DESCRIPTION:VILLAGE OF LANCASTER \nNOTICE OF TWO (2) PUBLIC HEARINGS \nTO BE HELD ON JANUARY 22\, 2024 \nPLEASE TAKE NOTICE; That the Village of Lancaster Board of Trustees will conduct two (2) public hearings in the Council Chambers of the Lancaster Municipal Building\, 5423 Broadway\, Lancaster\, New York on Monday\, January 22\, 2024\, beginning at 7:15 P.M. to consider two (2) proposed local laws which\, if adopted\, would amend provisions of the Village Code. \nThe first public hearing beginning at 7:15 P.M. is to consider corrective amendments to Chapter 350 “Zoning” to delete stray language seemingly included as a scrivener’s error before or at the time of first codification in 1976 and to correct erroneous internal references included within Local Law #4 of the year 2023 adopted on March 27\, 2023. \nThe second public hearing\, which will immediately follow completion of the first public hearing\, is to consider an amendment to Chapter 230 “Peace and Good Order” §230-1 to accommodate the recodification of the Town of Lancaster Anti-Noise Ordinance which\, by reference\, §230-1 incorporates within the Code of the Village of Lancaster. \nThe full text of the proposed local laws may be reviewed at the Village of Lancaster website https://lancastervillageny.gov or during office hours at the office of the Village Clerk located in the Lancaster Municipal Building\, 5423 Broadway\, Lancaster\, NY. \nAt said hearing\, all persons so desiring shall have the opportunity to be heard. \nMichael E. Stegmeier\nClerk-Treasurer \nA Local Law to amend the Village Code to delete stray language and internal reference.  \nA Local Law to amend §230-1 
URL:https://lancastervillageny.gov/event/notice-of-two-public-hearings/
LOCATION:Municipal Building\, 5423 Broadway\, Lancaster\, NY\, 14086\, United States
CATEGORIES:Public Hearing
END:VEVENT
END:VCALENDAR