BEGIN:VCALENDAR
VERSION:2.0
PRODID:-//Village of Lancaster, NY - ECPv6.15.17.1//NONSGML v1.0//EN
CALSCALE:GREGORIAN
METHOD:PUBLISH
X-ORIGINAL-URL:https://lancastervillageny.gov
X-WR-CALDESC:Events for Village of Lancaster, NY
REFRESH-INTERVAL;VALUE=DURATION:PT1H
X-Robots-Tag:noindex
X-PUBLISHED-TTL:PT1H
BEGIN:VTIMEZONE
TZID:America/New_York
BEGIN:DAYLIGHT
TZOFFSETFROM:-0500
TZOFFSETTO:-0400
TZNAME:EDT
DTSTART:20230312T070000
END:DAYLIGHT
BEGIN:STANDARD
TZOFFSETFROM:-0400
TZOFFSETTO:-0500
TZNAME:EST
DTSTART:20231105T060000
END:STANDARD
BEGIN:DAYLIGHT
TZOFFSETFROM:-0500
TZOFFSETTO:-0400
TZNAME:EDT
DTSTART:20240310T070000
END:DAYLIGHT
BEGIN:STANDARD
TZOFFSETFROM:-0400
TZOFFSETTO:-0500
TZNAME:EST
DTSTART:20241103T060000
END:STANDARD
BEGIN:DAYLIGHT
TZOFFSETFROM:-0500
TZOFFSETTO:-0400
TZNAME:EDT
DTSTART:20250309T070000
END:DAYLIGHT
BEGIN:STANDARD
TZOFFSETFROM:-0400
TZOFFSETTO:-0500
TZNAME:EST
DTSTART:20251102T060000
END:STANDARD
END:VTIMEZONE
BEGIN:VEVENT
DTSTART;TZID=America/New_York:20240408T191500
DTEND;TZID=America/New_York:20240408T200000
DTSTAMP:20260420T150701
CREATED:20240312T193602Z
LAST-MODIFIED:20240320T140140Z
UID:10001342-1712603700-1712606400@lancastervillageny.gov
SUMMARY:Public Hearing- Proposed Budget for the 2024-2025 Fiscal Year
DESCRIPTION:There will be a public hearing in Council Chambers on Monday\, April 8\, 2024\, at 7:15 p.m. to consider public comments and feedback regarding the proposed budget for the 2024 – 2025 fiscal year. \nNOTE- The tentative budget will be filed in the Clerk-Treasurer’s Office no later than March 20\, 2024\, and will be presented to the Village Board at the March 25th regular meeting. \nTo see the Public Hearing notice\, please click here. \n  \n 
URL:https://lancastervillageny.gov/event/public-hearing-proposed-budget-for-the-2024-2025-fiscal-year/
LOCATION:NY
CATEGORIES:Board Meeting,Public Hearing
END:VEVENT
END:VCALENDAR