BEGIN:VCALENDAR
VERSION:2.0
PRODID:-//Village of Lancaster, NY - ECPv6.15.17.1//NONSGML v1.0//EN
CALSCALE:GREGORIAN
METHOD:PUBLISH
X-ORIGINAL-URL:https://lancastervillageny.gov
X-WR-CALDESC:Events for Village of Lancaster, NY
REFRESH-INTERVAL;VALUE=DURATION:PT1H
X-Robots-Tag:noindex
X-PUBLISHED-TTL:PT1H
BEGIN:VTIMEZONE
TZID:America/New_York
BEGIN:DAYLIGHT
TZOFFSETFROM:-0500
TZOFFSETTO:-0400
TZNAME:EDT
DTSTART:20230312T070000
END:DAYLIGHT
BEGIN:STANDARD
TZOFFSETFROM:-0400
TZOFFSETTO:-0500
TZNAME:EST
DTSTART:20231105T060000
END:STANDARD
BEGIN:DAYLIGHT
TZOFFSETFROM:-0500
TZOFFSETTO:-0400
TZNAME:EDT
DTSTART:20240310T070000
END:DAYLIGHT
BEGIN:STANDARD
TZOFFSETFROM:-0400
TZOFFSETTO:-0500
TZNAME:EST
DTSTART:20241103T060000
END:STANDARD
BEGIN:DAYLIGHT
TZOFFSETFROM:-0500
TZOFFSETTO:-0400
TZNAME:EDT
DTSTART:20250309T070000
END:DAYLIGHT
BEGIN:STANDARD
TZOFFSETFROM:-0400
TZOFFSETTO:-0500
TZNAME:EST
DTSTART:20251102T060000
END:STANDARD
END:VTIMEZONE
BEGIN:VEVENT
DTSTART;TZID=America/New_York:20240610T191500
DTEND;TZID=America/New_York:20240610T193000
DTSTAMP:20260420T120754
CREATED:20240529T171826Z
LAST-MODIFIED:20240529T171952Z
UID:10001397-1718046900-1718047800@lancastervillageny.gov
SUMMARY:Public Hearing- Amending Village Code 325\, Vehicles and Traffic
DESCRIPTION:VILLAGE OF LANCASTER\nNOTICE OF PUBLIC HEARING\nTO BE HELD MONDAY\, JUNE 10\, 2024\nPLEASE TAKE NOTICE; That the Village of Lancaster Board of Trustees will conduct a public hearing in the Council Chambers of the Lancaster Municipal Building\, 5423 Broadway\, Lancaster\, New York on Monday\, June 10\, 2024\, at 7:15 PM to consider a local law amending Village Code Chapter 325\, Vehicles and Traffic\, to include provisions accommodating the police enforcement of parking as restricted by signage on privately owned premises. \nThe proposed local law would provide for the ticketing of vehicles parked in violation of specified signage upon privately owned premises and in certain instances authorize towing and the imposition of towing and storage rates as to offending vehicles. \nFurther\, the proposed local law would exempt specified signage limiting parking upon privately owned premises from the requirement of a building permit\, a certificate of appropriateness pursuant to Village Code Chapter 184\, Historic Districts and Landmarks\, and signage regulations included within Village Code Chapter 350\, Zoning. \nThe full text of the proposed local law may be reviewed at the Village of Lancaster website https://lancastervillageny.gov or during office hours at the office of the Village Clerk\, Lancaster Municipal Building\, 5423 Broadway\, Lancaster\, New York. \nAt said hearing\, all persons so desiring shall have the opportunity to be heard. \nMichael E. Stegmeier\nVillage Clerk \nTo see the proposed law\, click here.
URL:https://lancastervillageny.gov/event/5643/
LOCATION:Municipal Building\, 5423 Broadway\, Lancaster\, NY\, 14086\, United States
CATEGORIES:Public Hearing
END:VEVENT
END:VCALENDAR