BEGIN:VCALENDAR
VERSION:2.0
PRODID:-//Village of Lancaster, NY - ECPv6.15.17.1//NONSGML v1.0//EN
CALSCALE:GREGORIAN
METHOD:PUBLISH
X-WR-CALNAME:Village of Lancaster, NY
X-ORIGINAL-URL:https://lancastervillageny.gov
X-WR-CALDESC:Events for Village of Lancaster, NY
REFRESH-INTERVAL;VALUE=DURATION:PT1H
X-Robots-Tag:noindex
X-PUBLISHED-TTL:PT1H
BEGIN:VTIMEZONE
TZID:America/New_York
BEGIN:DAYLIGHT
TZOFFSETFROM:-0500
TZOFFSETTO:-0400
TZNAME:EDT
DTSTART:20240310T070000
END:DAYLIGHT
BEGIN:STANDARD
TZOFFSETFROM:-0400
TZOFFSETTO:-0500
TZNAME:EST
DTSTART:20241103T060000
END:STANDARD
BEGIN:DAYLIGHT
TZOFFSETFROM:-0500
TZOFFSETTO:-0400
TZNAME:EDT
DTSTART:20250309T070000
END:DAYLIGHT
BEGIN:STANDARD
TZOFFSETFROM:-0400
TZOFFSETTO:-0500
TZNAME:EST
DTSTART:20251102T060000
END:STANDARD
BEGIN:DAYLIGHT
TZOFFSETFROM:-0500
TZOFFSETTO:-0400
TZNAME:EDT
DTSTART:20260308T070000
END:DAYLIGHT
BEGIN:STANDARD
TZOFFSETFROM:-0400
TZOFFSETTO:-0500
TZNAME:EST
DTSTART:20261101T060000
END:STANDARD
END:VTIMEZONE
BEGIN:VEVENT
DTSTART;TZID=America/New_York:20250503T100000
DTEND;TZID=America/New_York:20250503T110000
DTSTAMP:20260421T040604
CREATED:20250402T134555Z
LAST-MODIFIED:20250402T142432Z
UID:10001442-1746266400-1746270000@lancastervillageny.gov
SUMMARY:A Celebration of Remembrance: Tree Dedication
DESCRIPTION:In recognition of those who honored their loved ones through the Village of Lancaster’s Tree Dedication Program\, on May 3rd\, 2025\, we invite the families to join us at 10:00 AM on W. Main Street for a meaningful gathering to reflect\, remember\, and appreciate the trees that now stand as living legacies.
URL:https://lancastervillageny.gov/event/a-celebration-of-remembrance-tree-dedication/
CATEGORIES:Village Event
END:VEVENT
BEGIN:VEVENT
DTSTART;TZID=America/New_York:20250515T180000
DTEND;TZID=America/New_York:20250515T200000
DTSTAMP:20260421T040604
CREATED:20250319T200054Z
LAST-MODIFIED:20250319T200054Z
UID:10001436-1747332000-1747339200@lancastervillageny.gov
SUMMARY:Beautification- Spring Clean Up
DESCRIPTION:Sign up to be a sponsor and help keep our community beautiful! Please click here for the sponsor form.
URL:https://lancastervillageny.gov/event/beautification-spring-clean-up/2025-05-15/
LOCATION:Central Business District
CATEGORIES:Village Event
END:VEVENT
BEGIN:VEVENT
DTSTART;TZID=America/New_York:20250516T100000
DTEND;TZID=America/New_York:20250516T140000
DTSTAMP:20260421T040604
CREATED:20250319T200054Z
LAST-MODIFIED:20250319T200054Z
UID:10001437-1747389600-1747404000@lancastervillageny.gov
SUMMARY:Beautification- Spring Clean Up
DESCRIPTION:Sign up to be a sponsor and help keep our community beautiful! Please click here for the sponsor form.
URL:https://lancastervillageny.gov/event/beautification-spring-clean-up/2025-05-16/1/
LOCATION:Central Business District
CATEGORIES:Village Event
END:VEVENT
BEGIN:VEVENT
DTSTART;TZID=America/New_York:20250516T180000
DTEND;TZID=America/New_York:20250516T200000
DTSTAMP:20260421T040604
CREATED:20250319T200054Z
LAST-MODIFIED:20250319T200054Z
UID:10001438-1747418400-1747425600@lancastervillageny.gov
SUMMARY:Beautification- Spring Clean Up
DESCRIPTION:Sign up to be a sponsor and help keep our community beautiful! Please click here for the sponsor form.
URL:https://lancastervillageny.gov/event/beautification-spring-clean-up/2025-05-16/2/
LOCATION:Central Business District
CATEGORIES:Village Event
END:VEVENT
BEGIN:VEVENT
DTSTART;TZID=America/New_York:20250517T100000
DTEND;TZID=America/New_York:20250517T140000
DTSTAMP:20260421T040604
CREATED:20250319T200054Z
LAST-MODIFIED:20250319T200054Z
UID:10001439-1747476000-1747490400@lancastervillageny.gov
SUMMARY:Beautification- Spring Clean Up
DESCRIPTION:Sign up to be a sponsor and help keep our community beautiful! Please click here for the sponsor form.
URL:https://lancastervillageny.gov/event/beautification-spring-clean-up/2025-05-17/
LOCATION:Central Business District
CATEGORIES:Village Event
END:VEVENT
BEGIN:VEVENT
DTSTART;TZID=America/New_York:20250522T100000
DTEND;TZID=America/New_York:20250522T140000
DTSTAMP:20260421T040604
CREATED:20250522T144344Z
LAST-MODIFIED:20250522T144344Z
UID:10001449-1747908000-1747922400@lancastervillageny.gov
SUMMARY:Lancaster Legendary Rides Car Show
DESCRIPTION:Join us for Lancaster Legendary Rides Car Show to be held Sunday\, June 22nd from 10:00am – 2:00p.m. in the Clark St Parking Lot and Central Ave with live music from Hot Hot Heat and Terry Buckwald as Elvis! There will be 1st\, 2nd\, and 3rd place prizes sponsored by Skoob’s. \nTo sign up\, please see the below Car Show Application. \nCar Show Application
URL:https://lancastervillageny.gov/event/lancaster-legendary-rides-car-show/
LOCATION:Central Business District
CATEGORIES:Adult Events,Family Events,Village Event
END:VEVENT
END:VCALENDAR